BEGIN:VCALENDAR
VERSION:2.0
PRODID:-//Early Music America - ECPv5.8.1//NONSGML v1.0//EN
CALSCALE:GREGORIAN
METHOD:PUBLISH
X-WR-CALNAME:Early Music America
X-ORIGINAL-URL:https://www.earlymusicamerica.org
X-WR-CALDESC:Events for Early Music America
BEGIN:VTIMEZONE
TZID:America/New_York
BEGIN:DAYLIGHT
TZOFFSETFROM:-0500
TZOFFSETTO:-0400
TZNAME:EDT
DTSTART:20210314T070000
END:DAYLIGHT
BEGIN:STANDARD
TZOFFSETFROM:-0400
TZOFFSETTO:-0500
TZNAME:EST
DTSTART:20211107T060000
END:STANDARD
END:VTIMEZONE
BEGIN:VEVENT
DTSTART;TZID=America/New_York:20210430T140000
DTEND;TZID=America/New_York:20210430T160000
DTSTAMP:20210730T110708
CREATED:20210415T020506Z
LAST-MODIFIED:20210415T190037Z
UID:65169-1619791200-1619798400@www.earlymusicamerica.org
SUMMARY:Alkemie presents “Verdant Medicine: Hildegard’s Resonant Apothecary”
DESCRIPTION:Join Alkemie for an Interactive Livestream Concert with post-concert Scholar Roundtable on Friday\, April 30 at 2 p.m. EDT. This multi-dimensional event will include hand-made Intersensory Program Materials that pair Hildegard von Bingen’s music\, texts\, and associated images with materials that you can literally smell\, taste\, touch\, and hear. \nMystic\, medic\, and musician\, Hildegard von Bingen (1098-1179) expanded both Christian theology and the humoral theory of Galen to connect the viriditas (living greenness) of plants and the metaphorical viridity of spirituality directly to the human body and its functioning. \nThis program situates Hildegard’s music within her understanding of medieval pharmacognosy (i.e. plant medicine)\, sharing her vision of an earth-bound transcendence that connects humans to the divine through spiritual “greening” and the five senses. Her beliefs are mirrored in the music she wrote for her nuns—ecstatic chants in which unfurling branches\, earthbound roots\, and medicinal spices are depicted in soaring melodies that swirl throughout an almost three-octave range. \n​The premiere concert broadcast will be immediately followed by a roundtable conversation with the musicians and with three noted scholars\, Dr. Victoria Sweet\, Dr. Alisha Rankin\, and Dr. Minji Lee\, and moderated by Johns Hopkins historian of medicine Dr. Mary Fissell. \nTickets start at $15; please contact info@alkemie.org to inquire about group viewing rates and/or if circumstances necessitate financial aid. ORDER by April 22 to ensure timely delivery of interactive program materials. The broadcast will be available On-Demand through May 16\, 2021. \nSee a Preview Video of the Concert
URL:https://www.earlymusicamerica.org/event/alkemie-presents-verdant-medicine-hildegards-resonant-apothecary/
LOCATION:Virtual
CATEGORIES:Concerts
ATTACH;FMTTYPE=image/jpeg:https://www.earlymusicamerica.org/wp-content/uploads/2021/04/Verdant-Medicine-flyer-EMA-scaled.jpg
ORGANIZER;CN="Alkemie":MAILTO:info@alkemie.org
END:VEVENT
END:VCALENDAR