BEGIN:VCALENDAR
VERSION:2.0
PRODID:-//Early Music America - ECPv5.9.2//NONSGML v1.0//EN
CALSCALE:GREGORIAN
METHOD:PUBLISH
X-WR-CALNAME:Early Music America
X-ORIGINAL-URL:https://www.earlymusicamerica.org
X-WR-CALDESC:Events for Early Music America
BEGIN:VTIMEZONE
TZID:America/New_York
BEGIN:DAYLIGHT
TZOFFSETFROM:-0500
TZOFFSETTO:-0400
TZNAME:EDT
DTSTART:20220313T070000
END:DAYLIGHT
BEGIN:STANDARD
TZOFFSETFROM:-0400
TZOFFSETTO:-0500
TZNAME:EST
DTSTART:20221106T060000
END:STANDARD
END:VTIMEZONE
BEGIN:VEVENT
DTSTART;TZID=America/New_York:20220304T200000
DTEND;TZID=America/New_York:20220304T200000
DTSTAMP:20211021T121141
CREATED:20210901T181834Z
LAST-MODIFIED:20210901T181834Z
UID:69503-1646424000-1646424000@www.earlymusicamerica.org
SUMMARY:The Viennese School: Music from the Court of Maximilian I
DESCRIPTION:Folger Consort performs music from the Viennese court of Maximilian I\, as well as arrangements of later Viennese music for early instruments and a world premiere commission by composer David Froom.
URL:https://www.earlymusicamerica.org/event/the-viennese-school-music-from-the-court-of-maximilian-i/2022-03-04/
LOCATION:St. Mark’s Episcopal Church\, 301 A Street SE\, Washington\, 20003\, United States
CATEGORIES:Concerts
ORGANIZER;CN="Folger%20Consort":MAILTO:consort@folger.edu
GEO:38.8885086;-77.0017451
X-APPLE-STRUCTURED-LOCATION;VALUE=URI;X-ADDRESS=St. Mark’s Episcopal Church 301 A Street SE Washington 20003 United States;X-APPLE-RADIUS=500;X-TITLE=301 A Street SE:geo:-77.0017451,38.8885086
END:VEVENT
BEGIN:VEVENT
DTSTART;TZID=America/New_York:20220305T200000
DTEND;TZID=America/New_York:20220305T200000
DTSTAMP:20211021T121141
CREATED:20210901T181834Z
LAST-MODIFIED:20210901T181834Z
UID:69821-1646510400-1646510400@www.earlymusicamerica.org
SUMMARY:The Viennese School: Music from the Court of Maximilian I
DESCRIPTION:Folger Consort performs music from the Viennese court of Maximilian I\, as well as arrangements of later Viennese music for early instruments and a world premiere commission by composer David Froom.
URL:https://www.earlymusicamerica.org/event/the-viennese-school-music-from-the-court-of-maximilian-i/2022-03-05/
LOCATION:St. Mark’s Episcopal Church\, 301 A Street SE\, Washington\, 20003\, United States
CATEGORIES:Concerts
ORGANIZER;CN="Folger%20Consort":MAILTO:consort@folger.edu
GEO:38.8885086;-77.0017451
X-APPLE-STRUCTURED-LOCATION;VALUE=URI;X-ADDRESS=St. Mark’s Episcopal Church 301 A Street SE Washington 20003 United States;X-APPLE-RADIUS=500;X-TITLE=301 A Street SE:geo:-77.0017451,38.8885086
END:VEVENT
BEGIN:VEVENT
DTSTART;TZID=America/New_York:20220306T200000
DTEND;TZID=America/New_York:20220306T200000
DTSTAMP:20211021T121141
CREATED:20210901T181834Z
LAST-MODIFIED:20210901T181834Z
UID:69963-1646596800-1646596800@www.earlymusicamerica.org
SUMMARY:The Viennese School: Music from the Court of Maximilian I
DESCRIPTION:Folger Consort performs music from the Viennese court of Maximilian I\, as well as arrangements of later Viennese music for early instruments and a world premiere commission by composer David Froom.
URL:https://www.earlymusicamerica.org/event/the-viennese-school-music-from-the-court-of-maximilian-i/2022-03-06/
LOCATION:St. Mark’s Episcopal Church\, 301 A Street SE\, Washington\, 20003\, United States
CATEGORIES:Concerts
ORGANIZER;CN="Folger%20Consort":MAILTO:consort@folger.edu
GEO:38.8885086;-77.0017451
X-APPLE-STRUCTURED-LOCATION;VALUE=URI;X-ADDRESS=St. Mark’s Episcopal Church 301 A Street SE Washington 20003 United States;X-APPLE-RADIUS=500;X-TITLE=301 A Street SE:geo:-77.0017451,38.8885086
END:VEVENT
END:VCALENDAR