BEGIN:VCALENDAR
VERSION:2.0
PRODID:-//wp-events-plugin.com//7.2.3.1//EN
TZID:America/New_York
X-WR-TIMEZONE:America/New_YorkBEGIN:VCALENDAR
VERSION:2.0
PRODID:-//wp-events-plugin.com//7.2.3.1//EN
TZID:America/New_York
X-WR-TIMEZONE:America/New_York
BEGIN:VEVENT
UID:2@earlymusicamerica.org
DTSTART;TZID=America/New_York:20241022T193000
DTEND;TZID=America/New_York:20241022T213000
DTSTAMP:20241008T130839Z
URL:https://www.earlymusicamerica.org/events/2024-emerging-artists-showcas
 e/
SUMMARY:2024 Emerging Artists Showcase
DESCRIPTION:Early Music America presents the 7th annual Emerging Artist Sho
 wcase as the closing concert of the 2024 EMA Summit in Cleveland.\n\nTicke
 ts: $30 General Public\, $10 Students (with ID)\nPurchase Tickets\nTickets
  are included with EMA Summit registration.\nLearn more about the 2024 EMA
  Summit: earlymusicamerica.org/summit\n\n2024 Showcase Artists\n\nDuo CPE
  - The musicians of Duo CPE Andréa Walker\, soprano &amp\; Mikhail Grazhd
 anov\, fortepiano are both DMA students in historical performance practice
  at Case Western Reserve University. While equally versatile in vocal/keyb
 oard repertoire of the 17th and 18th centuries\, Duo CPE has found particu
 lar interest in late 18th-century German repertoire. They seek to bring th
 e intimacy and immediacy of Salon culture to modern audiences. Inspired by
  the sensibility and cultural revolutions of the Age of the Enlightenment\
 , Duo CPE is dedicated to pushing the bounds of historical performance pra
 ctice beyond Baroque.\n\nAmelia Sie - Based in New York City\, Amelia Sie 
 is a virtuosic and adventurous performer of modern and Baroque violin. She
  received her B.M. and M.M. degrees in Violin Performance from New England
  Conservatory and her M.M. degree in Historical Performance from The Juill
 iard School. Her most recent engagements include a solo recital with GEMS 
 Midtown Concert Series and concerts with Musicians of the Old Post Road an
 d Albany Symphony. Amelia is honored to have been named a Mercury Chamber 
 Orchestra Mercury-Juilliard Fellow for the 2023-24 concert year\, as well 
 as a Handel and Haydn Society Stone Fellow for the 2023-24 and 2024-25 con
 cert years.\n\nMagadalena - Magdalena is a US east coast ensemble with a m
 ission to incorporate early music’s charming soundscapes with rich tradi
 tions and share the results with all audiences. Launched in 2022\, Magdale
 na is a self-directed collective of early music specialists\, including Li
 v Castor (harp)\, Mira Fu-En Huang (voice/percussion)\, Cole Manel (plucke
 d strings)\, Niccolo Seligmann (bowed strings/percussion)\, Sarah Shodja (
 winds)\, and Cameron Welke (plucked strings). The ensemble has performed i
 n Maryland\, Virginia\, New York\, and Washington DC\, with anticipated pe
 rformances for Early Music NOW in Wisconsin and the Indianapolis Early Mus
 ic Festival in Indiana.
ATTACH;FMTTYPE=image/jpeg:https://www.earlymusicamerica.org/wp-content/upl
 oads/2024/09/2024-emerging-artists-showcase-event-cover.jpg
CATEGORIES:Concerts,EMA Event (EMA use only)
LOCATION:Harkness Chapel\, 11200 Bellflower Rd\, Cleveland\, OH\, 44106\, U
 nited States
X-APPLE-STRUCTURED-LOCATION;VALUE=URI;X-ADDRESS=11200 Bellflower Rd\, Cleve
 land\, OH\, 44106\, United States;X-APPLE-RADIUS=100;X-TITLE=Harkness Chap
 el:geo:0,0
END:VEVENT
BEGIN:VTIMEZONE
TZID:America/New_York
X-LIC-LOCATION:America/New_York
BEGIN:DAYLIGHT
DTSTART:20240310T030000
TZOFFSETFROM:-0500
TZOFFSETTO:-0400
TZNAME:EDT
END:DAYLIGHT
END:VTIMEZONE
END:VCALENDAR