BEGIN:VCALENDAR
VERSION:2.0
PRODID:-//wp-events-plugin.com//7.2.3.1//EN
TZID:America/New_York
X-WR-TIMEZONE:America/New_YorkBEGIN:VCALENDAR
VERSION:2.0
PRODID:-//wp-events-plugin.com//7.2.3.1//EN
TZID:America/New_York
X-WR-TIMEZONE:America/New_York
BEGIN:VEVENT
UID:11@earlymusicamerica.org
DTSTART;TZID=America/New_York:20241020T130000
DTEND;TZID=America/New_York:20241020T143000
DTSTAMP:20241014T161800Z
URL:https://www.earlymusicamerica.org/events/2024-young-performers-festiva
 l-2024-10-20/
SUMMARY:EMA's 2024 Young Performers Festival
DESCRIPTION:Early Music America presents the 14th annual Young Performers F
 estival as part of the 2024 EMA Summit in Cleveland. The YPF concerts will
  be held at 1pm daily throughout the October 20-22 Summit. All concerts wi
 ll be held in Case Western Reserve University's Harkness Chapel.\n\nOctobe
 r 20\nOberlin Conservatory Baroque Ensemble\n\nOctober 21\nLongy Baroque F
 lute Ensemble\nUCLA Early Music Ensemble\n\nOctober 22|\nIndiana Universit
 y Baroque Orchestra\nCase Western Reserve University Historical Performanc
 e Ensembles\n\n&nbsp\;
ATTACH;FMTTYPE=image/jpeg:https://www.earlymusicamerica.org/wp-content/upl
 oads/2024/09/2024-Summit-EMA-Event-.jpg
CATEGORIES:Concerts,EMA Event (EMA use only)
LOCATION:Harkness Chapel\, 11200 Bellflower Rd\, Cleveland\, OH\, 44106\, U
 nited States
X-APPLE-STRUCTURED-LOCATION;VALUE=URI;X-ADDRESS=11200 Bellflower Rd\, Cleve
 land\, OH\, 44106\, United States;X-APPLE-RADIUS=100;X-TITLE=Harkness Chap
 el:geo:0,0
END:VEVENT
BEGIN:VTIMEZONE
TZID:America/New_York
X-LIC-LOCATION:America/New_York
BEGIN:DAYLIGHT
DTSTART:20240310T030000
TZOFFSETFROM:-0500
TZOFFSETTO:-0400
TZNAME:EDT
END:DAYLIGHT
END:VTIMEZONE
END:VCALENDAR