BEGIN:VCALENDAR
VERSION:2.0
PRODID:-//wp-events-plugin.com//7.2.3.1//EN
TZID:America/New_York
X-WR-TIMEZONE:America/New_YorkBEGIN:VCALENDAR
VERSION:2.0
PRODID:-//wp-events-plugin.com//7.2.3.1//EN
TZID:America/New_York
X-WR-TIMEZONE:America/New_York
BEGIN:VEVENT
UID:173@earlymusicamerica.org
DTSTART;TZID=America/New_York:20241019T150000
DTEND;TZID=America/New_York:20241019T170000
DTSTAMP:20241010T143536Z
URL:https://www.earlymusicamerica.org/events/25th-birthday-concert-somethi
 ng-old-something-new/
SUMMARY:25th Birthday Concert: something old\, something new …
DESCRIPTION:\n\n\nBlue Heron returns to its origins\, singing the glorious 
 music of Hugh Aston from the Peterhouse Partbooks\, and looks to the futur
 e with two works by Boston composer Mehmet Ali Sanlıkol setting Turkish S
 ufi texts\, including a new piece written for the occasion\, The Triumph.
  Blue Heron’s 25th Birthday Party Reception to follow!\n\n\n\n\n\nHugh A
 ston (c. 1485-1558)\nAve Maria ancilla trinitatis\n\nMehmet Ali Sanlıkol 
 (b. 1974)\nDevran (2017)\n\nJean Yves Daniel-Lesur (1908-2002)\nLe Cantiqu
 e des cantiques (1952)\n            1. Dialogue\n\nintermission\n\n
 Robert Hunt (early 16th century)\nAve Maria mater dei\n\nMehmet Ali Sanlı
 kol\nThe Triumph (2024)\n            World premiere\n\n
ATTACH;FMTTYPE=image/jpeg:https://www.earlymusicamerica.org/wp-content/upl
 oads/2024/10/C1-EMA.png
CATEGORIES:Concerts
LOCATION:First Church Congregational\, 11 Garden Street\, Cambridge\, MA\, 
 02138\, United States
X-APPLE-STRUCTURED-LOCATION;VALUE=URI;X-ADDRESS=11 Garden Street\, Cambridg
 e\, MA\, 02138\, United States;X-APPLE-RADIUS=100;X-TITLE=First Church Con
 gregational:geo:0,0
END:VEVENT
BEGIN:VTIMEZONE
TZID:America/New_York
X-LIC-LOCATION:America/New_York
BEGIN:DAYLIGHT
DTSTART:20240310T030000
TZOFFSETFROM:-0500
TZOFFSETTO:-0400
TZNAME:EDT
END:DAYLIGHT
END:VTIMEZONE
END:VCALENDAR