BEGIN:VCALENDAR
VERSION:2.0
PRODID:-//wp-events-plugin.com//7.2.3.1//EN
TZID:America/New_York
X-WR-TIMEZONE:America/New_YorkBEGIN:VCALENDAR
VERSION:2.0
PRODID:-//wp-events-plugin.com//7.2.3.1//EN
TZID:America/New_York
X-WR-TIMEZONE:America/New_York
BEGIN:VEVENT
UID:1325@earlymusicamerica.org
DTSTART;TZID=America/New_York:20260509T093000
DTEND;TZID=America/New_York:20260509T163000
DTSTAMP:20260422T015536Z
URL:https://www.earlymusicamerica.org/events/a-recorder-workshop-with-flut
 e-alors/
SUMMARY:A Recorder Workshop with Flûte Alors!
DESCRIPTION:Music &amp\; Movement: Playing Dances of All Times\nThe members
  of Flûte Alors! (Sophie Larivière\, Vincent Lauzer\, Marie-Laurence Pri
 meau and Caroline Tremblay) devote a day focused on the intrinsic link bet
 ween music and movement. How is a Pavane danced? What made the Branle such
  a popular dance during the Renaissance? Why aren’t all the Sarabandes p
 layed at the same tempo? What makes dance music so present in the repertoi
 re of the Renaissance and Baroque eras? How can you use the recorder techn
 iques and extended techniques to add movement and energy to your playing? 
 Learn the answers to these questions and more.\n\nOpen to recorder players
  at intermediate\, upper intermediate and advanced levels.
ATTACH;FMTTYPE=image/jpeg:https://www.earlymusicamerica.org/wp-content/upl
 oads/2026/04/flute-alors-1.jpg
CATEGORIES:Workshops
LOCATION:Saint George's Episcopal Church\, 915 N. Oakland\, Arlington\, VA\
 , 22203\, United States
GEO:38.882513;-77.104333
X-APPLE-STRUCTURED-LOCATION;VALUE=URI;X-ADDRESS=915 N. Oakland\, Arlington\
 , VA\, 22203\, United States;X-APPLE-RADIUS=100;X-TITLE=Saint George's Epi
 scopal Church:geo:38.882513,-77.104333
END:VEVENT
BEGIN:VTIMEZONE
TZID:America/New_York
X-LIC-LOCATION:America/New_York
BEGIN:DAYLIGHT
DTSTART:20260308T030000
TZOFFSETFROM:-0500
TZOFFSETTO:-0400
TZNAME:EDT
END:DAYLIGHT
END:VTIMEZONE
END:VCALENDAR