BEGIN:VCALENDAR
VERSION:2.0
PRODID:-//wp-events-plugin.com//7.2.3.1//EN
TZID:America/New_York
X-WR-TIMEZONE:America/New_YorkBEGIN:VCALENDAR
VERSION:2.0
PRODID:-//wp-events-plugin.com//7.2.3.1//EN
TZID:America/New_York
X-WR-TIMEZONE:America/New_York
BEGIN:VEVENT
UID:73@earlymusicamerica.org
DTSTART;TZID=America/Los_Angeles:20241013T160000
DTEND;TZID=America/Los_Angeles:20241013T180000
DTSTAMP:20240916T203938Z
URL:https://www.earlymusicamerica.org/events/a-taste-of-vivaldi-the-fall-p
 review-2024/
SUMMARY:A Taste of Vivaldi! The Fall Preview 2024
DESCRIPTION:Baroque Revelations &amp\; Revelries! Please join the Baroque M
 usic Festival\, CdM’s artistic director\, violinist Elizabeth Blumenstoc
 k\, for The Fall Preview—an elevated mixer in anticipation of the Festiv
 al's 45th season\, a Vivaldi-Fest\, in the serene surroundings of Newport 
 Beach’s Sculpture Garden and Community Room &amp\; Patios.\n\nEvent high
 lights:\n\n 	Pop-up solo Vivaldi violin performance by Elizabeth Blumens
 tock (10-15 minutes)\n 	Vivaldi 101 and exclusive sneak-peek at some of t
 he music by Vivaldi and other Baroque composers planned for June 2025 Fest
 ival concerts\n 	Delicious Italian-themed tray-passed appetizers from Su
 zanne’s Catering of Huntington Beach\n 	Fine wines\, teas\, coffee and
  infused waters\n 	The Festival's welcoming quintet South Coast Brass ser
 enading as you stroll the Sculpture Garden in Civic Center Park from 3:2
 0 pm\, 40 minutes before main event check-in\n 	Get to know Festival artis
 tic director Elizabeth Blumenstock\, Festival Board Members and staff\, c
 oncert-going acquaintances\, and other music lovers\, in a relaxed setting
 \n 	2025 Festival monthly giving info\, and sponsorship opportunities\n 	
 An afternoon of Baroque music discovery and connection!\n\n&nbsp\;\n\n 	G
 ENERAL ADMISSION: $50 early bird through October 6 then $100 per person f
 rom October 7\n 	For ages 12 and above.\n
ATTACH;FMTTYPE=image/jpeg:https://www.earlymusicamerica.org/wp-content/upl
 oads/2024/09/Fall-Preview-2024-graphic.png
CATEGORIES:Concerts,Festivals,Other
LOCATION:Newport Beach Civic Center Community Room &amp\; Patio\, 100 Civic
  Center Drive\, Newport Beach\, CA\, 92660\, United States
X-APPLE-STRUCTURED-LOCATION;VALUE=URI;X-ADDRESS=100 Civic Center Drive\, Ne
 wport Beach\, CA\, 92660\, United States;X-APPLE-RADIUS=100;X-TITLE=Newpor
 t Beach Civic Center Community Room & Patio:geo:0,0
END:VEVENT
BEGIN:VTIMEZONE
TZID:America/Los_Angeles
X-LIC-LOCATION:America/Los_Angeles
BEGIN:DAYLIGHT
DTSTART:20240310T030000
TZOFFSETFROM:-0800
TZOFFSETTO:-0700
TZNAME:PDT
END:DAYLIGHT
END:VTIMEZONE
END:VCALENDAR