BEGIN:VCALENDAR
VERSION:2.0
PRODID:-//wp-events-plugin.com//7.2.3.1//EN
TZID:America/New_York
X-WR-TIMEZONE:America/New_YorkBEGIN:VCALENDAR
VERSION:2.0
PRODID:-//wp-events-plugin.com//7.2.3.1//EN
TZID:America/New_York
X-WR-TIMEZONE:America/New_York
BEGIN:VEVENT
UID:1094@earlymusicamerica.org
DTSTART;TZID=America/New_York;VALUE=DATE:20260712
DTEND;TZID=America/New_York;VALUE=DATE:20260727
DTSTAMP:20260109T184301Z
URL:https://www.earlymusicamerica.org/events/amherst-early-music-festival/
SUMMARY:Amherst Early Music Festival
DESCRIPTION:Cloth of Gold: Music of France and England\nDirected by Frances
  Blaker\n\nThe 2026 Amherst Early Music Festival offers a bounty of classe
 s\, concerts\, drop-in sessions\, lectures\, and opportunities for impromp
 tu music making! Join with friends new and old in celebrating early music 
 and the joy of singing\, playing\, and dancing together.\n\nGain new skill
 s\, insights\, and inspiration in classes taught by over 50 faculty member
 s from the US and Europe. Amherst Early Music Festival faculty bring their
  spark\, enthusiasm\, talent and knowledge to you for an immersive week (o
 r two) focusing on Music of France and England from the 11th to the 18th c
 enturies.
ATTACH;FMTTYPE=image/jpeg:https://www.earlymusicamerica.org/wp-content/upl
 oads/2026/01/trumpeter_John-Blanke.jpeg
CATEGORIES:Festivals
LOCATION:Muhlenberg College\, 2400 W Chew St\, Allentown\, PA\, 18104\, Uni
 ted States
GEO:40.598193;-75.508108
X-APPLE-STRUCTURED-LOCATION;VALUE=URI;X-ADDRESS=2400 W Chew St\, Allentown\
 , PA\, 18104\, United States;X-APPLE-RADIUS=100;X-TITLE=Muhlenberg College
 :geo:40.598193,-75.508108
END:VEVENT
BEGIN:VTIMEZONE
TZID:America/New_York
X-LIC-LOCATION:America/New_York
BEGIN:DAYLIGHT
DTSTART:20260308T030000
TZOFFSETFROM:-0500
TZOFFSETTO:-0400
TZNAME:EDT
END:DAYLIGHT
END:VTIMEZONE
END:VCALENDAR