BEGIN:VCALENDAR
VERSION:2.0
PRODID:-//wp-events-plugin.com//7.2.3.1//EN
TZID:America/New_York
X-WR-TIMEZONE:America/New_YorkBEGIN:VCALENDAR
VERSION:2.0
PRODID:-//wp-events-plugin.com//7.2.3.1//EN
TZID:America/New_York
X-WR-TIMEZONE:America/New_York
BEGIN:VEVENT
UID:1093@earlymusicamerica.org
DTSTART;TZID=America/New_York;VALUE=DATE:20260522
DTEND;TZID=America/New_York;VALUE=DATE:20260526
DTSTAMP:20260110T142429Z
URL:https://www.earlymusicamerica.org/events/amherst-early-musics-memorial
 -day-weekend-workshop/
SUMMARY:Amherst Early Music's Memorial Day Weekend Workshop
DESCRIPTION:An idyllic musical retreat in rural Connecticut\nDirected by Va
 lerie Horst\, with faculty: Rainer Beckmann recorder\, Deborah Booth recor
 der &amp\; flute\, Eric Haas recorder &amp\; flute\, Lawrence Lipnik recor
 der &amp\; viol\, Patricia Petersen recorder &amp\; early notation\, Gwyn 
 Roberts recorder &amp\; flute\, Cat Slowik viol\n\nGet a head start on you
 r summer with a weekend of small and larger ensemble music in an idyllic r
 etreat center in rural Connecticut. Classes include mixed ensembles\, spec
 ial Medieval and Renaissance topics\, early notation ensemble\, and all-gr
 oup playing of grand Renaissance works\, for small and large instruments. 
 In the evenings enjoy all-workshop group sessions\, a Sunday evening facul
 ty concert and a gala party!
ATTACH;FMTTYPE=image/jpeg:https://www.earlymusicamerica.org/wp-content/upl
 oads/2026/01/Bestiary.jpg
CATEGORIES:Concerts
LOCATION:Wisdom House\, 229 E Litchfield Rd\, Litchfield\, CT\, 06759\, Uni
 ted States
GEO:41.758388;-73.151229
X-APPLE-STRUCTURED-LOCATION;VALUE=URI;X-ADDRESS=229 E Litchfield Rd\, Litch
 field\, CT\, 06759\, United States;X-APPLE-RADIUS=100;X-TITLE=Wisdom House
 :geo:41.758388,-73.151229
END:VEVENT
BEGIN:VTIMEZONE
TZID:America/New_York
X-LIC-LOCATION:America/New_York
BEGIN:DAYLIGHT
DTSTART:20260308T030000
TZOFFSETFROM:-0500
TZOFFSETTO:-0400
TZNAME:EDT
END:DAYLIGHT
END:VTIMEZONE
END:VCALENDAR