BEGIN:VCALENDAR
VERSION:2.0
PRODID:-//wp-events-plugin.com//7.2.3.1//EN
TZID:America/New_York
X-WR-TIMEZONE:America/New_YorkBEGIN:VCALENDAR
VERSION:2.0
PRODID:-//wp-events-plugin.com//7.2.3.1//EN
TZID:America/New_York
X-WR-TIMEZONE:America/New_York
BEGIN:VEVENT
UID:45@earlymusicamerica.org
DTSTART;TZID=America/Los_Angeles:20241018T190000
DTEND;TZID=America/Los_Angeles:20241018T210000
DTSTAMP:20240912T215650Z
URL:https://www.earlymusicamerica.org/events/bach-telemann-french-finesse/
SUMMARY:Bach &amp\; Telemann: French Finesse
DESCRIPTION:An intimate evening of French-inspired chamber music for gamba\
 , violin\, flute\, and harpsichord.\nTelemann and Bach\, two esteemed Germ
 an composers and friends\, draw inspiration from the sonic richness and rh
 ythmic nuance of the French style\, infusing this program with a unique vi
 brancy. From the graceful elegance of Telemann’s Paris Quartet to the co
 unterpoint of Bach’s Trio Sonata\, we embark on a journey through an exo
 tic musical landscape.\n&nbsp\;\nProgram\n\n\nJohann Sebastian Bach\nTrio 
 sonata in G Major\, BWV 1038\n\n\nGeorg Philipp Telemann\nParis Quartet No
 . 1 in D Major\, TWV 43:D3\n\n\nJean-Philippe Rameau\nConcerto No. 5 in D 
 Minor from Pièces de clavecin en concerts (1741)\n\n\nElisabeth Claude 
 Jacquet de la Guerre\nTrio sonata No. 1 in G Minor\n\n
ATTACH;FMTTYPE=image/jpeg:https://www.earlymusicamerica.org/wp-content/upl
 oads/2024/09/French-Finesse-web-square-540x.png
CATEGORIES:Concerts
LOCATION:First Congregational Church\, Portland\, 1126 SW Park Ave\, Portla
 nd\, Oregon\, 97205\, United States
X-APPLE-STRUCTURED-LOCATION;VALUE=URI;X-ADDRESS=1126 SW Park Ave\, Portland
 \, Oregon\, 97205\, United States;X-APPLE-RADIUS=100;X-TITLE=First Congreg
 ational Church\, Portland:geo:0,0
END:VEVENT
BEGIN:VTIMEZONE
TZID:America/Los_Angeles
X-LIC-LOCATION:America/Los_Angeles
BEGIN:DAYLIGHT
DTSTART:20240310T030000
TZOFFSETFROM:-0800
TZOFFSETTO:-0700
TZNAME:PDT
END:DAYLIGHT
END:VTIMEZONE
END:VCALENDAR