BEGIN:VCALENDAR
VERSION:2.0
PRODID:-//wp-events-plugin.com//7.2.3.1//EN
TZID:America/New_York
X-WR-TIMEZONE:America/New_YorkBEGIN:VCALENDAR
VERSION:2.0
PRODID:-//wp-events-plugin.com//7.2.3.1//EN
TZID:America/New_York
X-WR-TIMEZONE:America/New_York
BEGIN:VEVENT
UID:58@earlymusicamerica.org
DTSTART;TZID=America/New_York:20241026T200000
DTEND;TZID=America/New_York:20241026T213000
DTSTAMP:20240913T211306Z
URL:https://www.earlymusicamerica.org/events/bemf-presents-vox-luminis-ein
 -deutsches-barockrequiem/
SUMMARY:Vox Luminis: Ein Deutsches Barockrequiem (Boston Early Music Festiv
 al)
DESCRIPTION:\n\n\n\n\nVox Luminis\n\n\nLionel Meunier\, Director\nSaturday
 \, October 26\, 2024 at 8pm\nNEC's Jordan Hall\, Boston\, MA\nVIRTUAL PREM
 IERE: Saturday\, November 9\, 2024 at 8pm (ET)\nAvailable to watch until N
 ovember 23\, 2024 at 11:59pm (ET)\n\n\n\n\nEin Deutsches Barockrequiem: Te
 xts from the Brahms Requiem set by German Baroque masters\n\n\n\n\n\n\n\n
 \n\nJohannes Brahms created a new structure for his Ein Deutsches Requiem
 \, favoring the spiritual character of its meditations on death over the 
 more formal structure of the traditional Latin Requiem and drawing his tex
 ts from a variety of Lutheran biblical sources. These German texts have be
 en set by many illustrious composers through the ages. The Gramophone Awar
 d–winning Vox Luminis and Director Lionel Meunier—lauded for extens
 ive and evocative explorations of early German Baroque vocal repertoire—
 lead us on a journey inspired by Brahms’s vision by way of these earlier
 \, exquisite compositions\, imagining a very different-sounding yet deeply
  emotional German Baroque Requiem.\n\n\n\n\n\n“The refinement… is neve
 r anything less than sublime.”\n\n—Gramophone\n\n\n\n
ATTACH;FMTTYPE=image/jpeg:https://www.earlymusicamerica.org/wp-content/upl
 oads/2024/09/Vox-Luminis-2425.png
CATEGORIES:Concerts
LOCATION:Jordan Hall at New England Conservatory\, 30 Gainsborough Street\,
  Boston\, MA\, 02115\, United States
X-APPLE-STRUCTURED-LOCATION;VALUE=URI;X-ADDRESS=30 Gainsborough Street\, Bo
 ston\, MA\, 02115\, United States;X-APPLE-RADIUS=100;X-TITLE=Jordan Hall a
 t New England Conservatory:geo:0,0
END:VEVENT
BEGIN:VTIMEZONE
TZID:America/New_York
X-LIC-LOCATION:America/New_York
BEGIN:DAYLIGHT
DTSTART:20240310T030000
TZOFFSETFROM:-0500
TZOFFSETTO:-0400
TZNAME:EDT
END:DAYLIGHT
END:VTIMEZONE
END:VCALENDAR