BEGIN:VCALENDAR
VERSION:2.0
PRODID:-//wp-events-plugin.com//7.2.3.1//EN
TZID:America/New_York
X-WR-TIMEZONE:America/New_YorkBEGIN:VCALENDAR
VERSION:2.0
PRODID:-//wp-events-plugin.com//7.2.3.1//EN
TZID:America/New_York
X-WR-TIMEZONE:America/New_York
BEGIN:VEVENT
UID:72@earlymusicamerica.org
DTSTART;TZID=America/Los_Angeles:20240921T160000
DTEND;TZID=America/Los_Angeles:20240921T171500
DTSTAMP:20240916T004921Z
URL:https://www.earlymusicamerica.org/events/beneath-a-tree-on-the-lagoon/
SUMMARY:Beneath A Tree on the Lagoon
DESCRIPTION:Join us for an evening of music and good wine in Belvedere over
 looking the Lagoon.\n\nRSVP to heatherfindlay@gmail.com
ATTACH;FMTTYPE=image/jpeg:https://www.earlymusicamerica.org/wp-content/upl
 oads/2024/09/IMG_0575.png
CATEGORIES:Concerts
LOCATION:House Concert\, 92 Lagoon Road\, Belvedere\, CA\, 94920\, United S
 tates
X-APPLE-STRUCTURED-LOCATION;VALUE=URI;X-ADDRESS=92 Lagoon Road\, Belvedere\
 , CA\, 94920\, United States;X-APPLE-RADIUS=100;X-TITLE=House Concert:geo:
 0,0
END:VEVENT
BEGIN:VTIMEZONE
TZID:America/Los_Angeles
X-LIC-LOCATION:America/Los_Angeles
BEGIN:DAYLIGHT
DTSTART:20240310T030000
TZOFFSETFROM:-0800
TZOFFSETTO:-0700
TZNAME:PDT
END:DAYLIGHT
END:VTIMEZONE
END:VCALENDAR