BEGIN:VCALENDAR
VERSION:2.0
PRODID:-//wp-events-plugin.com//7.2.3.1//EN
TZID:America/New_York
X-WR-TIMEZONE:America/New_YorkBEGIN:VCALENDAR
VERSION:2.0
PRODID:-//wp-events-plugin.com//7.2.3.1//EN
TZID:America/New_York
X-WR-TIMEZONE:America/New_York
BEGIN:VEVENT
UID:314@earlymusicamerica.org
DTSTART;TZID=America/Los_Angeles:20250320T190000
DTEND;TZID=America/Los_Angeles:20250320T213000
DTSTAMP:20250121T163851Z
URL:https://www.earlymusicamerica.org/events/beyond-baroque-iv-lute-legend
 s-at-the-frye-museum/
SUMMARY:Beyond Baroque IV: Lute Legends at the Frye Museum
DESCRIPTION:Trade\, Conquest\, and the Lute\nSPECIAL EVENT* IN PARTNERSHIP 
 WITH THE FRYE MUSEUM\nEarly Music Seattle and the Frye Art Museum are thri
 lled to present Lute Legends: Trade\, Conquest\, and the Lute\, a trio of
  players who bring the music of Europe\, the Arab world\, and Asia into cl
 ose conversation. This special concert will take place in the Frye Salon\
 , activating the floor-to-ceiling installation of the museum’s founding-
 era collection and honoring the rich history of cross-disciplinary engagem
 ent initially established by Charles and Emma Frye\, a legacy that continu
 es to inspire the museum today.   \nJoin Artistic Director Gus Denhard 
 for an evening of music and conversation exploring the remarkable journey 
 of the lute. Revered across diverse cultural traditions\, the lute has lon
 g symbolized the transformative power of music. Through live performances\
 , the trio will highlight the unique musical traditions of their respectiv
 e cultures\, draw connections to the artwork in the Frye Salon\, and debu
 t original compositions created as a collaborative ensemble. Their dedicat
 ion to artistic collaboration conveys a powerful message of unity and shar
 ed humanity.
ATTACH;FMTTYPE=image/jpeg:https://www.earlymusicamerica.org/wp-content/upl
 oads/2025/01/Cropped-Lute-Legends@2x-1536x1536-1.jpg
CATEGORIES:Concerts,Festivals
LOCATION:Frye Art Museum\, 704 Terry Ave\, Seattle\, WA\, 98104\, United St
 ates
X-APPLE-STRUCTURED-LOCATION;VALUE=URI;X-ADDRESS=704 Terry Ave\, Seattle\, W
 A\, 98104\, United States;X-APPLE-RADIUS=100;X-TITLE=Frye Art Museum:geo:0
 ,0
END:VEVENT
BEGIN:VTIMEZONE
TZID:America/Los_Angeles
X-LIC-LOCATION:America/Los_Angeles
BEGIN:DAYLIGHT
DTSTART:20250309T030000
TZOFFSETFROM:-0800
TZOFFSETTO:-0700
TZNAME:PDT
END:DAYLIGHT
END:VTIMEZONE
END:VCALENDAR