BEGIN:VCALENDAR
VERSION:2.0
PRODID:-//wp-events-plugin.com//7.2.3.1//EN
TZID:America/New_York
X-WR-TIMEZONE:America/New_YorkBEGIN:VCALENDAR
VERSION:2.0
PRODID:-//wp-events-plugin.com//7.2.3.1//EN
TZID:America/New_York
X-WR-TIMEZONE:America/New_York
BEGIN:VEVENT
UID:1312@earlymusicamerica.org
DTSTART;TZID=America/Los_Angeles:20260622T193000
DTEND;TZID=America/Los_Angeles:20260622T213000
DTSTAMP:20260420T212400Z
URL:https://www.earlymusicamerica.org/events/bright-cecilia-the-power-of-h
 armony-46th-festival-2026-%c2%b7-a-cothen-chamber-bach-sonatas/
SUMMARY:Bright Cecilia: The Power of Harmony - 46th Festival 2026 · A Cöt
 hen Chamber: Bach Sonatas
DESCRIPTION:The Baroque Music Festival\, Corona del Mar\, invites you to im
 merse yourself in the powerful impact of harmonic expression with this yea
 r's Festival theme\, Bright Cecilia: The Power of Harmony. Through program
 s expertly curated and led by artistic director-violinist Elizabeth Blumen
 stock—and inspired by the patron saint of music\, Saint Cecilia—featur
 ed soloists and the Festival Orchestra and Chorus bring the community prof
 essional\, historically-informed interpretations in five concerts over eig
 ht days on the beautiful Southern California riviera.\n\nRECITAL - A Cöth
 en Chamber: Bach Sonatas\n\nMasterly Bach sonatas featuring the violin and
  harpsichord as soloistic partners. Plus\, works by the 17th-century notab
 le Bach forerunner Johann Caspar Kerll (1627-1693)—who was widely admire
 d by his contemporaries as an excellent keyboard player and composer—per
 formed on harpsichord and on the beautifully restored St. Michael’s pipe
  organ. In the excellent acoustics of St. Michael and All Angels Church—
 the Festival’s “small church” home since the beginning of the Festiv
 al.\n\nJ.S. Bach (1685-1750): Sonata for Violin and Harpsichord in A Major
 \, No. 2\, BWV 1015\nJ.C. Kerll (1627-1693): Suite for solo harpsichord in
  A Major \nAllemande–Partita · Courante–Partita · Sarabande–Partit
 a\nJ.S. Bach: Sonata for Violin and Harpsichord in C Minor\, No. 4\, BWV 1
 017\n~intermission~\nG.P. Telemann (1681-1767): Fantasia for Violin withou
 t Bass in B Minor\, No. 9\, TWV 40:22\nJ.C. Kerll: Toccata sesta for organ
 \nJ.C. Kerll: Capriccio sopra il Cucu for organ\nJ.S. Bach: Sonata for Vi
 olin and Harpsichord in G Major\, No. 6\, BWV 1019\n\nElizabeth Blumenstoc
 k\, violin\nMatthew Dirst\, harpsichord and organ\n\nFollowed by a wine &a
 mp\; waters reception in Michael’s Room with the musicians.
ATTACH;FMTTYPE=image/jpeg:https://www.earlymusicamerica.org/wp-content/upl
 oads/2026/04/Concert-2-1.png
CATEGORIES:Concerts
LOCATION:St. Michael and All Angels Episcopal Church\, 3233 Pacific View Dr
 \, Corona del Mar\, California\, 92625\, United States
X-APPLE-STRUCTURED-LOCATION;VALUE=URI;X-ADDRESS=3233 Pacific View Dr\, Coro
 na del Mar\, California\, 92625\, United States;X-APPLE-RADIUS=100;X-TITLE
 =St. Michael and All Angels Episcopal Church:geo:0,0
END:VEVENT
BEGIN:VTIMEZONE
TZID:America/Los_Angeles
X-LIC-LOCATION:America/Los_Angeles
BEGIN:DAYLIGHT
DTSTART:20260308T030000
TZOFFSETFROM:-0800
TZOFFSETTO:-0700
TZNAME:PDT
END:DAYLIGHT
END:VTIMEZONE
END:VCALENDAR