BEGIN:VCALENDAR
VERSION:2.0
PRODID:-//wp-events-plugin.com//7.2.3.1//EN
TZID:America/New_York
X-WR-TIMEZONE:America/New_YorkBEGIN:VCALENDAR
VERSION:2.0
PRODID:-//wp-events-plugin.com//7.2.3.1//EN
TZID:America/New_York
X-WR-TIMEZONE:America/New_York
BEGIN:VEVENT
UID:1314@earlymusicamerica.org
DTSTART;TZID=America/Los_Angeles:20260626T193000
DTEND;TZID=America/Los_Angeles:20260626T213000
DTSTAMP:20260420T195057Z
URL:https://www.earlymusicamerica.org/events/bright-cecilia-the-power-of-h
 armony-46th-festival-2026-%c2%b7-a-spanish-salon/
SUMMARY:Bright Cecilia: The Power of Harmony - 46th Festival 2026 · A Span
 ish Salón
DESCRIPTION:The Baroque Music Festival\, Corona del Mar\, invites you to im
 merse yourself in the powerful impact of harmonic expression with this yea
 r's Festival theme\, Bright Cecilia: The Power of Harmony. Through program
 s expertly curated and led by artistic director-violinist Elizabeth Blumen
 stock—and inspired by the patron saint of music\, Saint Cecilia—featur
 ed soloists and the Festival Orchestra and Chorus bring the community prof
 essional\, historically-informed interpretations in five concerts over eig
 ht days on the beautiful Southern California riviera.\n\nCHAMBER MUSIC - A
  Spanish Salón\n\nFriday’s chamber music night this year is centered ar
 ound music by an 18th-century Italian cellist and composer who made his li
 fe in Madrid and was inspired by colorful Spanish traditions. Luigi Bocche
 rini’s “Fandango” and E Minor Quintets for guitar and strings are pa
 rtnered with Manuel Canales’s C Major String Quartet and Catalan compose
 r Fernando Sor’s “Introduction and Variations on Gentil Housard” for
  solo guitar.\n\nManuel Braulio Canales López  (1747-1786): String Quart
 et in C Major\, Op. 3\, No. 1\nBoccherini: Quintet for Guitar and Strings 
 in E Minor\, No. 7\, G.451\n~intermission~\nFernando Sor (1778-1839): Intr
 oduction and Variations on Gentil Housard for solo guitar\nBoccherini: Qui
 ntet for Guitar and Strings in D Major\, No. 4\, G.448\, Fandango\n\nMarc 
 Teicholz\, guitar\nElizabeth Blumenstock &amp\; Gail Hernández Rosa\, vio
 lin\nAndrew McIntosh\, viola\nEva Lymenstull\, cello\n\nPatio open at 6:45
  p.m. for complimentary wine &amp\; waters\, teas &amp\; coffee · Interm
 ission coffee &amp\; cookies · Meet the musicians after the concert
ATTACH;FMTTYPE=image/jpeg:https://www.earlymusicamerica.org/wp-content/upl
 oads/2026/04/Concert-4.png
CATEGORIES:Concerts
LOCATION:St. Mark Presbyterian Church\, 2200 San Joaquin Hills Rd.\, Newpor
 t Beach\, CA\, 92660\, United States
X-APPLE-STRUCTURED-LOCATION;VALUE=URI;X-ADDRESS=2200 San Joaquin Hills Rd.\
 , Newport Beach\, CA\, 92660\, United States;X-APPLE-RADIUS=100;X-TITLE=St
 . Mark Presbyterian Church:geo:0,0
END:VEVENT
BEGIN:VTIMEZONE
TZID:America/Los_Angeles
X-LIC-LOCATION:America/Los_Angeles
BEGIN:DAYLIGHT
DTSTART:20260308T030000
TZOFFSETFROM:-0800
TZOFFSETTO:-0700
TZNAME:PDT
END:DAYLIGHT
END:VTIMEZONE
END:VCALENDAR