BEGIN:VCALENDAR
VERSION:2.0
PRODID:-//wp-events-plugin.com//7.2.3.1//EN
TZID:America/New_York
X-WR-TIMEZONE:America/New_YorkBEGIN:VCALENDAR
VERSION:2.0
PRODID:-//wp-events-plugin.com//7.2.3.1//EN
TZID:America/New_York
X-WR-TIMEZONE:America/New_York
BEGIN:VEVENT
UID:1313@earlymusicamerica.org
DTSTART;TZID=America/Los_Angeles:20260624T193000
DTEND;TZID=America/Los_Angeles:20260624T213000
DTSTAMP:20260420T194802Z
URL:https://www.earlymusicamerica.org/events/bright-cecilia-the-power-of-h
 armony-46th-festival-2026-%c2%b7-concerti-ditalia-in-the-gardens/
SUMMARY:Bright Cecilia: The Power of Harmony - 46th Festival 2026 · Concer
 ti D'Italia in the Gardens
DESCRIPTION:The Baroque Music Festival\, Corona del Mar\, invites you to im
 merse yourself in the powerful impact of harmonic expression with this yea
 r's Festival theme\, Bright Cecilia: The Power of Harmony. Through program
 s expertly curated and led by artistic director-violinist Elizabeth Blumen
 stock—and inspired by the patron saint of music\, Saint Cecilia—featur
 ed soloists and the Festival Orchestra and Chorus bring the community prof
 essional\, historically-informed interpretations in five concerts over eig
 ht days on the beautiful Southern California riviera.\n\nConcerti D'Italia
  in the Gardens\n\nItalian chamber concertos for recorder\, strings and ha
 rpsichord by Venetian Baroque composers Vivaldi and Galuppi\, Neapolitan F
 rancesco Mancini\, Milanese Sammartini\, and others.\n\nFrancesco Mancini 
 (1672-1737): Recorder Concerto in B-flat Major \nBaldassare Galuppi (1706-
 1785): Concert for Strings à 4 in C Minor\, No. 4\nF. Mancini: Recorder C
 oncerto in E Minor \nAlessandro Scarlatti (1660-1725): Sonata for Cello an
 d Harpsichord\n~intermission~\nA. Vivaldi (1678-1741): Recorder Concerto i
 n A Minor\, RV 108\nFrancesco Durante (1684-1755): Concerto for Strings in
  G Minor\, No. 2\nGiovanni Battista Sammartini (1700-1775): Recorder Conce
 rto\n\nJudith Linsenberg\, recorder\nElizabeth Blumenstock &amp\; Jolianne
  Einem\, violin\nRob Diggins\, viola\nEva Lymenstull\, cello\nIan Pritchar
 d\, harpsichord\n\nGates open at 6:45 p.m. for complimentary wine &amp\; w
 aters\, teas &amp\; coffee in the Gardens · Intermission coffee &amp\; 
 cookies · Meet the musicians after the concert
ATTACH;FMTTYPE=image/jpeg:https://www.earlymusicamerica.org/wp-content/upl
 oads/2026/04/Concert-3.png
CATEGORIES:Concerts
LOCATION:Sherman Library &amp\; Gardens\, 2647 East Coast Hwy\, Corona del 
 Mar\, California\, 92625\, United States
X-APPLE-STRUCTURED-LOCATION;VALUE=URI;X-ADDRESS=2647 East Coast Hwy\, Coron
 a del Mar\, California\, 92625\, United States;X-APPLE-RADIUS=100;X-TITLE=
 Sherman Library & Gardens:geo:0,0
END:VEVENT
BEGIN:VTIMEZONE
TZID:America/Los_Angeles
X-LIC-LOCATION:America/Los_Angeles
BEGIN:DAYLIGHT
DTSTART:20260308T030000
TZOFFSETFROM:-0800
TZOFFSETTO:-0700
TZNAME:PDT
END:DAYLIGHT
END:VTIMEZONE
END:VCALENDAR