BEGIN:VCALENDAR
VERSION:2.0
PRODID:-//wp-events-plugin.com//7.2.3.1//EN
TZID:America/New_York
X-WR-TIMEZONE:America/New_YorkBEGIN:VCALENDAR
VERSION:2.0
PRODID:-//wp-events-plugin.com//7.2.3.1//EN
TZID:America/New_York
X-WR-TIMEZONE:America/New_York
BEGIN:VEVENT
UID:1315@earlymusicamerica.org
DTSTART;TZID=America/Los_Angeles:20260628T160000
DTEND;TZID=America/Los_Angeles:20260628T180000
DTSTAMP:20260420T195919Z
URL:https://www.earlymusicamerica.org/events/bright-cecilia-the-power-of-h
 armony-46th-festival-2026-%c2%b7-finale-st-cecilias-day/
SUMMARY:Bright Cecilia: The Power of Harmony - 46th Festival 2026 · Finale
 : St. Cecilia's Day!
DESCRIPTION:The Baroque Music Festival\, Corona del Mar\, invites you to im
 merse yourself in the powerful impact of harmonic expression with this yea
 r's Festival theme\, Bright Cecilia: The Power of Harmony. Through program
 s expertly curated and led by artistic director-violinist Elizabeth Blumen
 stock—and inspired by the patron saint of music\, Saint Cecilia—featur
 ed soloists and the Festival Orchestra and Chorus bring the community prof
 essional\, historically-informed interpretations in five concerts over eig
 ht days on the beautiful Southern California riviera.\n\nFINALE - St. Ceci
 lia's Day!\n\nA grand choral Finale celebrating music itself—the power o
 f harmony and more. With international in-demand tenor soloist Nicholas Ph
 an and “luminous” soprano Hannah De Priest\, this year’s Festival cl
 oser is not to be missed. Featuring Handel’s grand setting of John Dryd
 en’s poem Ode for St. Cecilia’s Day\; his Chandos Anthem No. 8\, O Co
 me\, Let Us Sing \; and his Concerto Grosso Op. 3\, No. 5.\n\nGeorge Frid
 eric Handel (1685-1759): Concerto Grosso in D Minor\, Op. 3\, No. 5\, HWV 
 316\nHandel: O Come\, Let Us Sing “Chandos” Anthem No. 8\, HWV 253\n~i
 ntermission~\nHandel: Ode for St. Cecilia’s Day\, HWV 76\n\nHannah De Pr
 iest\, soprano\nNicholas Phan\, tenor\nKyle Tingzon\, countertenor (Chando
 s Anthem)\nFestival Orchestra &amp\; Chorus\, directed by Elizabeth Blumen
 stock\n\nFollowed by a wine &amp\; waters reception on the patio with the 
 musicians\; and for Festival Subscribers\, the Subscribers’ Dinner.
ATTACH;FMTTYPE=image/jpeg:https://www.earlymusicamerica.org/wp-content/upl
 oads/2026/04/Concert-5.png
CATEGORIES:Concerts
LOCATION:St. Mark Presbyterian Church\, 2200 San Joaquin Hills Rd.\, Newpor
 t Beach\, CA\, 92660\, United States
X-APPLE-STRUCTURED-LOCATION;VALUE=URI;X-ADDRESS=2200 San Joaquin Hills Rd.\
 , Newport Beach\, CA\, 92660\, United States;X-APPLE-RADIUS=100;X-TITLE=St
 . Mark Presbyterian Church:geo:0,0
END:VEVENT
BEGIN:VTIMEZONE
TZID:America/Los_Angeles
X-LIC-LOCATION:America/Los_Angeles
BEGIN:DAYLIGHT
DTSTART:20260308T030000
TZOFFSETFROM:-0800
TZOFFSETTO:-0700
TZNAME:PDT
END:DAYLIGHT
END:VTIMEZONE
END:VCALENDAR