BEGIN:VCALENDAR
VERSION:2.0
PRODID:-//wp-events-plugin.com//7.2.3.1//EN
TZID:America/New_York
X-WR-TIMEZONE:America/New_YorkBEGIN:VCALENDAR
VERSION:2.0
PRODID:-//wp-events-plugin.com//7.2.3.1//EN
TZID:America/New_York
X-WR-TIMEZONE:America/New_York
BEGIN:VEVENT
UID:1311@earlymusicamerica.org
DTSTART;TZID=America/Los_Angeles:20260621T160000
DTEND;TZID=America/Los_Angeles:20260621T180000
DTSTAMP:20260420T193606Z
URL:https://www.earlymusicamerica.org/events/bright-cecilia-the-power-of-h
 armony-46th-festival-2026-%c2%b7-parisian-pleasures/
SUMMARY:Bright Cecilia: The Power of Harmony - 46th Festival 2026 · Parisi
 an Pleasures!
DESCRIPTION:The Baroque Music Festival\, Corona del Mar\, invites you to im
 merse yourself in the powerful impact of harmonic expression with this yea
 r's Festival theme\, Bright Cecilia: The Power of Harmony. Through program
 s expertly curated and led by artistic director-violinist Elizabeth Blumen
 stock—and inspired by the patron saint of music\, Saint Cecilia—featur
 ed soloists and the Festival Orchestra and Chorus bring the community prof
 essional\, historically-informed interpretations in five concerts over eig
 ht days on the beautiful Southern California riviera.\n\nOPENER - Parisian
  Pleasures!\n\nAfter her stunning Vivaldi The Four Seasons at the Festival
  in 2025\, another rare SoCal opportunity to hear Elizabeth Blumenstock (a
 nd her 1660 Guarneri Baroque violin) as concerto soloist—this year in on
 e of Leclair’s Vivaldi-inspired violin concertos. Plus\, Rebel's groundb
 reaking Les Élémens\; and suites de ballet from operas by Marais and Ram
 eau.\n\nJean-Féry Rebel (1666-1747): Les Élémens\nMarin Marais (1656-17
 28): Incidental Music from Alcyone\n~intermission~\nJean-Marie Leclair (16
 97-1764): Violin Concerto in A Minor\, Op. 7\, No. 5\nJean-Philippe Rameau
  (1683-1764): Suite de ballets\nSelections from Les Boréades\, Naïs\, La
  Guirlande and Les Indes Galantes\n\nElizabeth Blumenstock\, violin &amp\;
  director\nFestival Orchestra\n\nFollowed by a complimentary wine &amp\; w
 aters reception for all ticket holders\, on the patio with the musicians.
  
ATTACH;FMTTYPE=image/jpeg:https://www.earlymusicamerica.org/wp-content/upl
 oads/2026/04/Concert-1-1.png
CATEGORIES:Concerts
LOCATION:St. Mark Presbyterian Church\, 2200 San Joaquin Hills Rd.\, Newpor
 t Beach\, CA\, 92660\, United States
X-APPLE-STRUCTURED-LOCATION;VALUE=URI;X-ADDRESS=2200 San Joaquin Hills Rd.\
 , Newport Beach\, CA\, 92660\, United States;X-APPLE-RADIUS=100;X-TITLE=St
 . Mark Presbyterian Church:geo:0,0
END:VEVENT
BEGIN:VTIMEZONE
TZID:America/Los_Angeles
X-LIC-LOCATION:America/Los_Angeles
BEGIN:DAYLIGHT
DTSTART:20260308T030000
TZOFFSETFROM:-0800
TZOFFSETTO:-0700
TZNAME:PDT
END:DAYLIGHT
END:VTIMEZONE
END:VCALENDAR