BEGIN:VCALENDAR
VERSION:2.0
PRODID:-//wp-events-plugin.com//7.2.3.1//EN
TZID:America/New_York
X-WR-TIMEZONE:America/New_YorkBEGIN:VCALENDAR
VERSION:2.0
PRODID:-//wp-events-plugin.com//7.2.3.1//EN
TZID:America/New_York
X-WR-TIMEZONE:America/New_York
BEGIN:VEVENT
UID:170@earlymusicamerica.org
DTSTART;TZID=America/New_York:20241109T140000
DTEND;TZID=America/New_York:20241109T153000
DTSTAMP:20241009T053311Z
URL:https://www.earlymusicamerica.org/events/cantors-of-leipzig/
SUMMARY:Cantors of Leipzig
DESCRIPTION:Throughout the seventeenth and eighteenth centuries\, the Thoma
 skirche in Leipzig was an important musical center of the region. It is be
 st known as the church where\, during his time as Cantor\, Johann Sebastia
 n Bach produced more than a third of his 300+ church cantatas. The Cantor
 s of Leipzig presents works composed by those who held this coveted post\,
  exploring the significance of the Thomaskirche cantorship in musical outp
 ut.
ATTACH;FMTTYPE=image/jpeg:https://www.earlymusicamerica.org/wp-content/upl
 oads/2024/10/logo-black-no-background-2.png
CATEGORIES:Concerts
LOCATION:St. Thomas Lutheran Church\, St. Thomas Lutheran Church\, 3800 Eas
 t 3rd Street\, Bloomington\, IN\, Bloomington\, Indiana\, 47401\, United S
 tates
X-APPLE-STRUCTURED-LOCATION;VALUE=URI;X-ADDRESS=St. Thomas Lutheran Church\
 , 3800 East 3rd Street\, Bloomington\, IN\, Bloomington\, Indiana\, 47401\
 , United States;X-APPLE-RADIUS=100;X-TITLE=St. Thomas Lutheran Church:geo:
 0,0
END:VEVENT
BEGIN:VTIMEZONE
TZID:America/New_York
X-LIC-LOCATION:America/New_York
BEGIN:STANDARD
DTSTART:20241103T010000
TZOFFSETFROM:-0400
TZOFFSETTO:-0500
TZNAME:EST
END:STANDARD
END:VTIMEZONE
END:VCALENDAR