BEGIN:VCALENDAR
VERSION:2.0
PRODID:-//wp-events-plugin.com//7.2.3.1//EN
TZID:America/New_York
X-WR-TIMEZONE:America/New_YorkBEGIN:VCALENDAR
VERSION:2.0
PRODID:-//wp-events-plugin.com//7.2.3.1//EN
TZID:America/New_York
X-WR-TIMEZONE:America/New_York
BEGIN:VEVENT
UID:123@earlymusicamerica.org
DTSTART;TZID=America/Los_Angeles:20241012T073000
DTEND;TZID=America/Los_Angeles:20241012T093000
DTSTAMP:20240926T221608Z
URL:https://www.earlymusicamerica.org/events/carlos-nunez/
SUMMARY:Carlos Núñez
DESCRIPTION:In Partnership with the Honorary Consulate of Spain\n\nWhen the
  Los Angeles Times suggested that “if it’s possible to become a pop st
 ar playing traditional music on bagpipes and recorder\, Núñez could be t
 he man\,” it may have been an understatement. Few pop stars pack the ene
 rgy\, virtuosity\, imagination\, daring\, and charisma into their concerts
  and recordings as Galician multi-instrumentalist Carlos Núñez does. He 
 is the world’s most famous player of the gaita\, the bagpipes of Galicia
 \, Spain’s northwest\, Atlantic Ocean-abutting region rich in vibrant\, 
 uniquely expressive Celtic traditional music.
ATTACH;FMTTYPE=image/jpeg:https://www.earlymusicamerica.org/wp-content/upl
 oads/2024/09/Rectangulo-259@2x-scaled-1-1536x893-1.jpeg
CATEGORIES:Concerts,Festivals
LOCATION:Town Hall Seattle\, 1119 8th Ave\, Seattle\, WA\, 98101\, United S
 tates
GEO:47.609078;-122.329817
X-APPLE-STRUCTURED-LOCATION;VALUE=URI;X-ADDRESS=1119 8th Ave\, Seattle\, WA
 \, 98101\, United States;X-APPLE-RADIUS=100;X-TITLE=Town Hall Seattle:geo:
 47.609078,-122.329817
END:VEVENT
BEGIN:VTIMEZONE
TZID:America/Los_Angeles
X-LIC-LOCATION:America/Los_Angeles
BEGIN:DAYLIGHT
DTSTART:20240310T030000
TZOFFSETFROM:-0800
TZOFFSETTO:-0700
TZNAME:PDT
END:DAYLIGHT
END:VTIMEZONE
END:VCALENDAR