BEGIN:VCALENDAR
VERSION:2.0
PRODID:-//wp-events-plugin.com//7.2.3.1//EN
TZID:America/New_York
X-WR-TIMEZONE:America/New_YorkBEGIN:VCALENDAR
VERSION:2.0
PRODID:-//wp-events-plugin.com//7.2.3.1//EN
TZID:America/New_York
X-WR-TIMEZONE:America/New_York
BEGIN:VEVENT
UID:842@earlymusicamerica.org
DTSTART;TZID=America/New_York:20260328T150000
DTEND;TZID=America/New_York:20260328T170000
DTSTAMP:20250919T224912Z
URL:https://www.earlymusicamerica.org/events/christmas-in-16th-century-spa
 in/
SUMMARY:Johannes Okeghem: Missa Cuiusvis toni
DESCRIPTION:One of Okeghem’s most dazzling compositional feats is this Ma
 ss “in whatsoever mode\,” which can be sung three ways\, each with its
  own distinct scale and harmonic palette. Blue Heron will sing the complet
 e Mass in all three modes\, in a special two-part concert interpolating an
  explanatory presentation by Peter Urquhart and Scott Metcalfe.
ATTACH;FMTTYPE=image/jpeg:https://www.earlymusicamerica.org/wp-content/upl
 oads/2025/09/Cuiusvis-toni.jpg
CATEGORIES:Concerts
LOCATION:First Church Cambridge\, 11 Garden Street\, Cambridge\, MA\, 02138
 \, United States
X-APPLE-STRUCTURED-LOCATION;VALUE=URI;X-ADDRESS=11 Garden Street\, Cambridg
 e\, MA\, 02138\, United States;X-APPLE-RADIUS=100;X-TITLE=First Church Cam
 bridge:geo:0,0
END:VEVENT
BEGIN:VTIMEZONE
TZID:America/New_York
X-LIC-LOCATION:America/New_York
BEGIN:DAYLIGHT
DTSTART:20260308T030000
TZOFFSETFROM:-0500
TZOFFSETTO:-0400
TZNAME:EDT
END:DAYLIGHT
END:VTIMEZONE
END:VCALENDAR