BEGIN:VCALENDAR
VERSION:2.0
PRODID:-//wp-events-plugin.com//7.2.3.1//EN
TZID:America/New_York
X-WR-TIMEZONE:America/New_YorkBEGIN:VCALENDAR
VERSION:2.0
PRODID:-//wp-events-plugin.com//7.2.3.1//EN
TZID:America/New_York
X-WR-TIMEZONE:America/New_York
BEGIN:VEVENT
UID:1260@earlymusicamerica.org
DTSTART;TZID=America/Denver:20260509T190000
DTEND;TZID=America/Denver:20260509T213000
DTSTAMP:20260401T233511Z
URL:https://www.earlymusicamerica.org/events/corelli-goes-viral/
SUMMARY:Corelli Goes Viral
DESCRIPTION:Arcangelo Corelli's (1653-1713) music took Europe by storm arou
 nd the turn of the 18th century. To put it in modern terms\, his style wen
 t viral!\n\nJulie Andrijeski\, violin\, Katherine Heater\, harpsichord\, a
 nd Daniel Frizzell\, theorbo\, will join with Pendulum Early Music for thi
 s season finale\, which features music by composers from turn-of-the-18th-
 century France\, England\, Germany\, and Italy.\n\nThis will be an unforge
 ttable evening of music that traces the influence Corelli had on composers
  such Muffat\, Rebel\, Couperin\, Corbett\, and Telemann. Each of these co
 mposers blended their own personal and national styles with the influence 
 of Corelli's clean\, sweeping\, and brilliant idiom in a kind of synthesis
  that would help define the beginning of the 18th century in musical Europ
 e.
ATTACH;FMTTYPE=image/jpeg:https://www.earlymusicamerica.org/wp-content/upl
 oads/2026/04/Untitled-3.jpeg
CATEGORIES:Concerts
LOCATION:St. Michael's Cathedra\;\, 518 N. 8th St.\, Boise\, Idaho\, 83702\
 , United States
GEO:43.618855;-116.200026
X-APPLE-STRUCTURED-LOCATION;VALUE=URI;X-ADDRESS=518 N. 8th St.\, Boise\, Id
 aho\, 83702\, United States;X-APPLE-RADIUS=100;X-TITLE=St. Michael's Cathe
 dra;:geo:43.618855,-116.200026
END:VEVENT
BEGIN:VTIMEZONE
TZID:America/Denver
X-LIC-LOCATION:America/Denver
BEGIN:DAYLIGHT
DTSTART:20260308T030000
TZOFFSETFROM:-0700
TZOFFSETTO:-0600
TZNAME:MDT
END:DAYLIGHT
END:VTIMEZONE
END:VCALENDAR