BEGIN:VCALENDAR
VERSION:2.0
PRODID:-//wp-events-plugin.com//7.2.3.1//EN
TZID:America/New_York
X-WR-TIMEZONE:America/New_YorkBEGIN:VCALENDAR
VERSION:2.0
PRODID:-//wp-events-plugin.com//7.2.3.1//EN
TZID:America/New_York
X-WR-TIMEZONE:America/New_York
BEGIN:VEVENT
UID:122@earlymusicamerica.org
DTSTART;TZID=America/Los_Angeles:20241012T130000
DTEND;TZID=America/Los_Angeles:20241012T150000
DTSTAMP:20240926T221311Z
URL:https://www.earlymusicamerica.org/events/duo-takinai-meets-fulgencio-l
 azos-newest-exhibition/
SUMMARY:Duo Takinai meets Fulgencio Lazo‘s Newest Exhibition
DESCRIPTION:In Partnership with ArtX Contemporary\n\nIn the inspiring space
  of ArtX Contemporary\, the eclectic music of Duo Takinai presents music f
 rom Latin America\, Eastern Mediterranean and East Asia – surrounded by 
 the vibrant and abstract paintings and sculptures of internationally recog
 nized artist Fulgencio Lazo. His art work is an exploration of cultural i
 dentity and the power of community.\n\nTakinai is a mix of two words\, the
  Quechua (Bolivian indigenous language) word “Takina” meaning “music
 ”\, and the Chinese word “ai 爱” meaning “love.”  Joined by
  the love for music\, Duo Takinai\, Guo Ke and Reynaldo Ruiz\, bring their
  own distinct cultural heritages and musical backgrounds\, offering interp
 retations with a wide variety of instruments such as the Andean and Asian 
 flutes\, world percussion\, guitar\, harp\, piano\, and qanun.\n\nArtX Con
 temporary (formerly ArtXchange Gallery) is a Seattle-based gallery at the 
 intersection of contemporary art and global culture. The gallery aims to r
 eflect the diverse influences shaping our region to inspire conversation a
 nd connection in our community.
ATTACH;FMTTYPE=image/jpeg:https://www.earlymusicamerica.org/wp-content/upl
 oads/2024/09/duotakinai@2x.jpg
CATEGORIES:Concerts,Festivals
LOCATION:ArtX Contemporary\, 512 1st Ave S\, Seattle\, WA\, 98104\, United 
 States
X-APPLE-STRUCTURED-LOCATION;VALUE=URI;X-ADDRESS=512 1st Ave S\, Seattle\, W
 A\, 98104\, United States;X-APPLE-RADIUS=100;X-TITLE=ArtX Contemporary:geo
 :0,0
END:VEVENT
BEGIN:VTIMEZONE
TZID:America/Los_Angeles
X-LIC-LOCATION:America/Los_Angeles
BEGIN:DAYLIGHT
DTSTART:20240310T030000
TZOFFSETFROM:-0800
TZOFFSETTO:-0700
TZNAME:PDT
END:DAYLIGHT
END:VTIMEZONE
END:VCALENDAR