BEGIN:VCALENDAR
VERSION:2.0
PRODID:-//wp-events-plugin.com//7.2.3.1//EN
TZID:America/New_York
X-WR-TIMEZONE:America/New_YorkBEGIN:VCALENDAR
VERSION:2.0
PRODID:-//wp-events-plugin.com//7.2.3.1//EN
TZID:America/New_York
X-WR-TIMEZONE:America/New_York
BEGIN:VEVENT
UID:112@earlymusicamerica.org
DTSTART;TZID=America/New_York:20241026T193000
DTEND;TZID=America/New_York:20241026T213000
DTSTAMP:20240926T191618Z
URL:https://www.earlymusicamerica.org/events/early-music-new-york-50th-ann
 iversary-concert/
SUMMARY:EARLY MUSIC NEW YORK | 50TH ANNIVERSARY CONCERT
DESCRIPTION:Early Music Foundation\nPresents\n&nbsp\;\nEarly Music New York
 \nFrederick Renz\, Director\n \n50th ANNIVERSARY CONCERT\n18th Century Or
 chestral Works\n \nFrederick Renz will treat Early Music New York’s aud
 ience (and himself) to works from his favorite historical period\, the lat
 e 18th century. Familiar composers Haydn\, Mozart and C.P.E. Bach will be 
 juxtaposed with the less frequently heard Berezovsky and Reicha\, for anot
 her memorable evening with Early Music New York.\n&nbsp\;\nSaturday\, Octo
 ber 26 at 7:30 pm\nFirst Church of Christ\, Scientist\, Central Park West 
 at 68th Street\, NYC\n&nbsp\;\n(program subject to change)\n&nbsp\;\nTicke
 ts\n$40.00 open seating\n$20.00 student (w/valid ID\, available at door\, 
 day of)\n&nbsp\;\nTickets available by phone (212-280-0330)\, on-line (www
 .EarlyMusicNY.org) and at the door\, half an hour prior to performance. Gr
 oup discounts available by telephone. All major credit cards accepted.
ATTACH;FMTTYPE=image/jpeg:https://www.earlymusicamerica.org/wp-content/upl
 oads/2024/09/0013-Border-Small.jpg
CATEGORIES:Concerts
LOCATION:First Church of Christ\, Scientist\, 10 West 68th St.\, New York\,
  NY\, 10023\, United States
X-APPLE-STRUCTURED-LOCATION;VALUE=URI;X-ADDRESS=10 West 68th St.\, New York
 \, NY\, 10023\, United States;X-APPLE-RADIUS=100;X-TITLE=First Church of C
 hrist\, Scientist:geo:0,0
END:VEVENT
BEGIN:VTIMEZONE
TZID:America/New_York
X-LIC-LOCATION:America/New_York
BEGIN:DAYLIGHT
DTSTART:20240310T030000
TZOFFSETFROM:-0500
TZOFFSETTO:-0400
TZNAME:EDT
END:DAYLIGHT
END:VTIMEZONE
END:VCALENDAR