BEGIN:VCALENDAR
VERSION:2.0
PRODID:-//wp-events-plugin.com//7.2.3.1//EN
TZID:America/New_York
X-WR-TIMEZONE:America/New_YorkBEGIN:VCALENDAR
VERSION:2.0
PRODID:-//wp-events-plugin.com//7.2.3.1//EN
TZID:America/New_York
X-WR-TIMEZONE:America/New_York
BEGIN:VEVENT
UID:283@earlymusicamerica.org
DTSTART;TZID=America/New_York:20250119T150000
DTEND;TZID=America/New_York:20250119T160000
DTSTAMP:20250109T225602Z
URL:https://www.earlymusicamerica.org/events/fandango-and-other-dances/
SUMMARY:Fandango and Other Dances
DESCRIPTION:This program features Ibero-American dances and song-dances\, i
 ncluding folias\, jácaras\, and fandangos\, from the Renaissance to th
 e present. The music spans from the early Spanish Cancioneros (songbooks
 ) in old Iberia to contemporary folk and popular music from Venezuela and 
 Mexico. Included are dances such as joropo from Venezuela and Colombia a
 nd fandanguito from Mexico. Performers will switch from the European vio
 la da gamba and Renaissance guitar to the Venezuelan cuatro and harp\, i
 llustrating the similar yet distinctively different sonorities and rhythmi
 c and harmonic connections between the two continents\, underlining Afric
 a’s influence on them. The program will also include an aria by Jose de 
 Nebra praising the Fandango for relieving fears.\n\nMusic by Cascante\, Co
 ll\, Encina\, Gureau\, Murcia\, Soler and others.\n\n“Gutiérrez and her
  ensemble of virtuosos breathe essential life into compositions…spiritua
 lly satisfying and downright fun.” —The Boston Musical Intelligencer\n
 \nPerformers:\n\nSalome Sandoval\, soprano &amp\; guitar\nFausto Miro\, te
 nor\nDanilo Bonina\, violin\nEduardo Betancourt\, Venezuelan harp &amp\; p
 ercussion\nMiguel Morales Lavado\, percussion\nKatherine Shao\, keyboards\
 nKirsten Lamb\, bass\nLaury Gutiérrez\, viola da gamba &amp\; cuatro\n\n\
 n\nThis concert is sponsored by the Friends of the Robbins Library\n\n\n\n
 \n\n\nFor more information visit us at www.ladm.org\n\n617-461-6973 ||  
 ladonna@ladm.org\n\n\n
ATTACH;FMTTYPE=image/jpeg:https://www.earlymusicamerica.org/wp-content/upl
 oads/2025/01/25-Fandango-17Ene-1.png
CATEGORIES:Concerts,Other
LOCATION:Robbins Library\, 700 Massachusetts Avenue\, Arlington\, MA\, Unit
 ed States
X-APPLE-STRUCTURED-LOCATION;VALUE=URI;X-ADDRESS=700 Massachusetts Avenue\, 
 Arlington\, MA\, United States;X-APPLE-RADIUS=100;X-TITLE=Robbins Library:
 geo:0,0
END:VEVENT
BEGIN:VTIMEZONE
TZID:America/New_York
X-LIC-LOCATION:America/New_York
BEGIN:STANDARD
DTSTART:20241103T010000
TZOFFSETFROM:-0400
TZOFFSETTO:-0500
TZNAME:EST
END:STANDARD
END:VTIMEZONE
END:VCALENDAR