BEGIN:VCALENDAR
VERSION:2.0
PRODID:-//wp-events-plugin.com//7.2.3.1//EN
TZID:America/New_York
X-WR-TIMEZONE:America/New_YorkBEGIN:VCALENDAR
VERSION:2.0
PRODID:-//wp-events-plugin.com//7.2.3.1//EN
TZID:America/New_York
X-WR-TIMEZONE:America/New_York
BEGIN:VEVENT
UID:118@earlymusicamerica.org
DTSTART;TZID=America/New_York:20241020T153000
DTEND;TZID=America/New_York:20241020T163000
DTSTAMP:20240926T214628Z
URL:https://www.earlymusicamerica.org/events/fandangos-and-other-dances/
SUMMARY:Fandangos And Other Dances
DESCRIPTION:This program features Ibero-American dances and song-dances\, i
 ncluding folias\, jácaras\, and fandangos\, from the Renaissance to the p
 resent. The music spans from the early Spanish Cancioneros (songbooks) in 
 old Iberia to contemporary folk and popular music from Venezuela and Mexic
 o. Included are dances such as joropo from Venezuela and Colombia and fand
 anguito from Mexico. Performers will switch from the European viola da gam
 ba and Renaissance guitar to the Venezuelan cuatro and harp\, illustrating
  the similar yet distinctively different sonorities and rhythmic and harmo
 nic connections between the two continents\, underlining Africa’s influ
 ence on them. The program will also include an aria by Jose de Nebra prais
 ing the Fandango for relieving fears.\n\nMusic by Anonymous\, Ortiz\, Sole
 r\, Murcia\, Machado\, Castellanos\, and others.\n\n“Gutiérrez and her 
 ensemble of virtuosos breathe essential life into compositions…spiritual
 ly satisfying and downright fun.” --The Boston Musical Intelligencer\n\n
 Performers\n\nAdriana Ruiz\, soprano\nDaniela Tosic\, mezzo-soprano\nDanil
 o Bonina\, violin\nSalome Sandoval\, guitar &amp\; soprano\nEduardo Betanc
 ourt\, Venezuelan harp &amp\; percussion\nKatherine Shao\, keyboards\nKera
  Washington\, percussion\nKirsten Lamb\, bass\nLaury Gutiérrez\, viola da
  gamba &amp\; cuatro\n\nFor more information visit us at www.ladm.org\n\n6
 17-461-6973 ||  ladonna@ladm.org
ATTACH;FMTTYPE=image/jpeg:https://www.earlymusicamerica.org/wp-content/upl
 oads/2024/09/Fandango-Collage-musicians-1920-x-1005-px-1920-x-915-px-1080-
 x-1350-px-2-1.png
CATEGORIES:Concerts,Other
LOCATION:First Unitarian Church\, One Benevolent St.\, Providence\, RI\, 02
 906\, United States
X-APPLE-STRUCTURED-LOCATION;VALUE=URI;X-ADDRESS=One Benevolent St.\, Provid
 ence\, RI\, 02906\, United States;X-APPLE-RADIUS=100;X-TITLE=First Unitari
 an Church:geo:0,0
END:VEVENT
BEGIN:VTIMEZONE
TZID:America/New_York
X-LIC-LOCATION:America/New_York
BEGIN:DAYLIGHT
DTSTART:20240310T030000
TZOFFSETFROM:-0500
TZOFFSETTO:-0400
TZNAME:EDT
END:DAYLIGHT
END:VTIMEZONE
END:VCALENDAR