BEGIN:VCALENDAR
VERSION:2.0
PRODID:-//wp-events-plugin.com//7.2.3.1//EN
TZID:America/New_York
X-WR-TIMEZONE:America/New_YorkBEGIN:VCALENDAR
VERSION:2.0
PRODID:-//wp-events-plugin.com//7.2.3.1//EN
TZID:America/New_York
X-WR-TIMEZONE:America/New_York
BEGIN:VEVENT
UID:387@earlymusicamerica.org
DTSTART;TZID=America/Denver:20250309T150000
DTEND;TZID=America/Denver:20250309T170000
DTSTAMP:20250220T172950Z
URL:https://www.earlymusicamerica.org/events/fanfares-flourishes-sound-the
 -trumpet/
SUMMARY:Fanfares &amp\; Flourishes!— Sound the trumpet!
DESCRIPTION:Fanfares &amp\; Flourishes!— Sound the trumpet! Our orchestra
  performs a festive and light-hearted program: Exuberant music of Handel's
  Suite in D for trumpet and strings (including themes from his Water Music
 k)\, along with the whimsical Don Quixote Suite by Telemann which is music
 al storytelling at its best\, plus brilliant concertos\, and the premiere 
 of "Flourish\," composed by Frank Nowell for this occasion. Leader and Sol
 oist:  Cynthia Miller Freivogel. Guest Artist: Kathryn James Adduci\,
  Baroque Trumpet.  March 7-9\, with Livestream on March 9 and on demand 
 thereafter.
ATTACH;FMTTYPE=image/jpeg:https://www.earlymusicamerica.org/wp-content/upl
 oads/2025/02/Fanfares-graphic.jpg
CATEGORIES:Concerts
LOCATION:https://bcocolorado.org/concerts/
END:VEVENT
BEGIN:VTIMEZONE
TZID:America/Denver
X-LIC-LOCATION:America/Denver
BEGIN:DAYLIGHT
DTSTART:20250309T030000
TZOFFSETFROM:-0700
TZOFFSETTO:-0600
TZNAME:MDT
END:DAYLIGHT
END:VTIMEZONE
END:VCALENDAR