BEGIN:VCALENDAR
VERSION:2.0
PRODID:-//wp-events-plugin.com//7.2.3.1//EN
TZID:America/New_York
X-WR-TIMEZONE:America/New_YorkBEGIN:VCALENDAR
VERSION:2.0
PRODID:-//wp-events-plugin.com//7.2.3.1//EN
TZID:America/New_York
X-WR-TIMEZONE:America/New_York
BEGIN:VEVENT
UID:1125@earlymusicamerica.org
DTSTART;TZID=America/New_York;VALUE=DATE:20260327
DTEND;TZID=America/New_York;VALUE=DATE:20260410
DTSTAMP:20260119T185113Z
URL:https://www.earlymusicamerica.org/events/ferrara-splendor-of-the-renai
 ssance-3/
SUMMARY:Ferrara: Splendor of the Renaissance
DESCRIPTION:Mar 13\, 7:30 PM – Church of the Holy Trinity\, Rittenhouse\
 n\nMar 14\, 7:30 PM – Presbyterian Church of Chestnut Hill\n\nMar 15\, 
 3:00 PM – Christ Church Christiana Hundred\, Wilmington\n\nMar 27–Apr
  9 | Streaming online\n\n&nbsp\;\n\nUnder the patronage of the d’Este f
 amily\, the city of Ferrara emerged as a vital cultural and intellectual c
 enter during the Italian Renaissance\, attracting leading poets\, artists\
 , philosophers\, and musicians. The finest composers and performers of the
  day had at least some degree of connection to Ferrara\, and music - espec
 ially the wind band - played a central role in the city's rich artistic en
 vironment. Piffaro’s wind players present a program that explores the di
 stinctive soundscape of Ferrara\, from their own Piffari's Casanatense man
 uscript to the tide-shifting works of Cipriano and Gesualdo.\n\n&nbsp\;\n\
 nTickets &amp\; Additional Info
ATTACH;FMTTYPE=image/jpeg:https://www.earlymusicamerica.org/wp-content/upl
 oads/2026/01/Piffaro-Press-Photo-Large-2.jpeg
CATEGORIES:Concerts
LOCATION:https://www.piffaro.org/ferrara-splendor-of-the-renaissance/?utm_s
 ource=online&utm_medium=calendar_listing&utm_campaign=calendars
END:VEVENT
BEGIN:VTIMEZONE
TZID:America/New_York
X-LIC-LOCATION:America/New_York
BEGIN:DAYLIGHT
DTSTART:20260308T030000
TZOFFSETFROM:-0500
TZOFFSETTO:-0400
TZNAME:EDT
END:DAYLIGHT
END:VTIMEZONE
END:VCALENDAR