BEGIN:VCALENDAR
VERSION:2.0
PRODID:-//wp-events-plugin.com//7.2.3.1//EN
TZID:America/New_York
X-WR-TIMEZONE:America/New_YorkBEGIN:VCALENDAR
VERSION:2.0
PRODID:-//wp-events-plugin.com//7.2.3.1//EN
TZID:America/New_York
X-WR-TIMEZONE:America/New_York
BEGIN:VEVENT
UID:1324@earlymusicamerica.org
DTSTART;TZID=America/New_York:20260510T150000
DTEND;TZID=America/New_York:20260510T170000
DTSTAMP:20260422T014545Z
URL:https://www.earlymusicamerica.org/events/flute-alors-plays-murmuration
 s/
SUMMARY:Flûte Alors! plays "Murmurations"
DESCRIPTION:Hear the brilliant Montreal recorder ensemble Flûte Alors! (So
 phie Larivière\, Caroline Tremblay\, Marie-Laurence Premeau\, Vincent La
 uzer) in concert! Murmurations evokes snatches of speech in a low voice o
 r the spectacular groupings of birds in flight. This performance brings to
 gether some of the most beautiful vocal and instrumental works of the Ren
 aissance\, as well as baroque and contemporary pieces\, referencing birds 
 to offer a concert where poetry and wonder come together.\n\nWorks by J. A
 rcadelt\, C. Janequin\, G. F. Handel\, G. P. Telemann\, A. Vivaldi\, M. Ma
 ute and others.
ATTACH;FMTTYPE=image/jpeg:https://www.earlymusicamerica.org/wp-content/upl
 oads/2026/04/flute-alors.jpg
CATEGORIES:Concerts
LOCATION:Saint George's Episcopal Church\, 915 N. Oakland\, Arlington\, VA\
 , 22203\, United States
GEO:38.882513;-77.104333
X-APPLE-STRUCTURED-LOCATION;VALUE=URI;X-ADDRESS=915 N. Oakland\, Arlington\
 , VA\, 22203\, United States;X-APPLE-RADIUS=100;X-TITLE=Saint George's Epi
 scopal Church:geo:38.882513,-77.104333
END:VEVENT
BEGIN:VTIMEZONE
TZID:America/New_York
X-LIC-LOCATION:America/New_York
BEGIN:DAYLIGHT
DTSTART:20260308T030000
TZOFFSETFROM:-0500
TZOFFSETTO:-0400
TZNAME:EDT
END:DAYLIGHT
END:VTIMEZONE
END:VCALENDAR