BEGIN:VCALENDAR
VERSION:2.0
PRODID:-//wp-events-plugin.com//7.2.3.1//EN
TZID:America/New_York
X-WR-TIMEZONE:America/New_YorkBEGIN:VCALENDAR
VERSION:2.0
PRODID:-//wp-events-plugin.com//7.2.3.1//EN
TZID:America/New_York
X-WR-TIMEZONE:America/New_York
BEGIN:VEVENT
UID:1133@earlymusicamerica.org
DTSTART;TZID=America/Denver:20260226T193000
DTEND;TZID=America/Denver:20260226T203000
DTSTAMP:20260121T234850Z
URL:https://www.earlymusicamerica.org/events/gentle-plucks-bach-beyond/
SUMMARY:Gentle Plucks: Bach &amp\; Beyond -- presented by Baroque Music Mon
 tana
DESCRIPTION:Baroque Music Montana reunites friends from Juilliard for intim
 ate performances. A charming and stylish virtuoso harpsichordist from Madr
 id shares character dance pieces by Spanish composers Cabezon\, Cabanilles
 \, and from the collection Flores de Musica of 1709\, sonatas by Scarlatti
  and Bach’s French Suite in E-flat major. Bozeman-based Baroque violinis
 t Carrie Krause joins for work by Bach including the Obligato Sonata in C 
 minor as well as the gorgeous Cantabile from the G major Sonata. Refreshme
 nts served\, ticketing reservation highly recommended as seating is limite
 d\, and this house concert is open to the public. \n\nThe musicians tour 
 this program February 24-March 1\, with concerts at the Mammoth Chapel in 
 Gardiner\, Linda Foy art gallery in Twin Bridges\, Cikan house in Bozeman\
 , Tongue River Winery in Miles City\, Held Ranch in Broadus\, and Kania ho
 use in Shepherd. More information at www.baroquemusicmontana.org.\n\n&nbsp
 \;
ATTACH;FMTTYPE=image/jpeg:https://www.earlymusicamerica.org/wp-content/upl
 oads/2026/01/Carrie-Krause_Violin-even-smaller-2.jpg
CATEGORIES:Concerts
LOCATION:Cikan House\, 31 Hitching Post \, Bozeman\, MT\, 59715\, United St
 ates
GEO:45.636336;-111.028392
X-APPLE-STRUCTURED-LOCATION;VALUE=URI;X-ADDRESS=31 Hitching Post \, Bozeman
 \, MT\, 59715\, United States;X-APPLE-RADIUS=100;X-TITLE=Cikan House:geo:4
 5.636336,-111.028392
END:VEVENT
BEGIN:VTIMEZONE
TZID:America/Denver
X-LIC-LOCATION:America/Denver
BEGIN:STANDARD
DTSTART:20251102T010000
TZOFFSETFROM:-0600
TZOFFSETTO:-0700
TZNAME:MST
END:STANDARD
END:VTIMEZONE
END:VCALENDAR