BEGIN:VCALENDAR
VERSION:2.0
PRODID:-//wp-events-plugin.com//7.2.3.1//EN
TZID:America/New_York
X-WR-TIMEZONE:America/New_YorkBEGIN:VCALENDAR
VERSION:2.0
PRODID:-//wp-events-plugin.com//7.2.3.1//EN
TZID:America/New_York
X-WR-TIMEZONE:America/New_York
BEGIN:VEVENT
UID:43@earlymusicamerica.org
DTSTART;TZID=America/Los_Angeles:20241012T190000
DTEND;TZID=America/Los_Angeles:20241012T210000
DTSTAMP:20240912T215044Z
URL:https://www.earlymusicamerica.org/events/handel-vivaldi-autumn-light/
SUMMARY:Handel &amp\; Vivaldi: Autumn Light
DESCRIPTION:PBO opens this season of seasons by exploring the forces of nat
 ure. Vivaldi’s “Autumn” and “Winter” from The Four Seasons viv
 idly depict elemental change\, from vibrant hues to icy embraces\, followe
 d by Handel’s commanding Silete venti\, where soprano Maya Kherani deli
 vers us through the turbulence of fall storms into the comfort of long win
 ter nights. Cozy up with this Italian-inspired concert as music and nature
  seamlessly entwine.\n&nbsp\;\nProgram\n\n\nAntonio Vivaldi\n“Autumn” 
 from The Four Seasons\, Opus 8\, No. 3\, RV 293 (pbd. 1725)\n\n\nAntonio V
 ivaldi\n“Winter” from The Four Seasons\, Op. 8\, No. 4\, RV 297 (pbd. 
 1725)\n\n\nGeorge Frideric Handel\nSilete venti\, HWV 242 (1721)\n\n\nMari
 a Margherita Grimani\nSinfonia to Pallade e Marte (c. 1713)\n\n\nJohan H
 elmich Roman\nLittle Drottningholm Music\, BeRI 2.5 (1744)\n\n
ATTACH;FMTTYPE=image/jpeg:https://www.earlymusicamerica.org/wp-content/upl
 oads/2024/09/Autumn-Light-Web-Square-540x.png
CATEGORIES:Concerts
LOCATION:First Congregational Church\, Portland\, 1126 SW Park Ave\, Portla
 nd\, Oregon\, 97205\, United States
X-APPLE-STRUCTURED-LOCATION;VALUE=URI;X-ADDRESS=1126 SW Park Ave\, Portland
 \, Oregon\, 97205\, United States;X-APPLE-RADIUS=100;X-TITLE=First Congreg
 ational Church\, Portland:geo:0,0
END:VEVENT
BEGIN:VTIMEZONE
TZID:America/Los_Angeles
X-LIC-LOCATION:America/Los_Angeles
BEGIN:DAYLIGHT
DTSTART:20240310T030000
TZOFFSETFROM:-0800
TZOFFSETTO:-0700
TZNAME:PDT
END:DAYLIGHT
END:VTIMEZONE
END:VCALENDAR