BEGIN:VCALENDAR
VERSION:2.0
PRODID:-//wp-events-plugin.com//7.2.3.1//EN
TZID:America/New_York
X-WR-TIMEZONE:America/New_YorkBEGIN:VCALENDAR
VERSION:2.0
PRODID:-//wp-events-plugin.com//7.2.3.1//EN
TZID:America/New_York
X-WR-TIMEZONE:America/New_York
BEGIN:VEVENT
UID:1328@earlymusicamerica.org
DTSTART;TZID=America/Denver:20260508T180000
DTEND;TZID=America/Denver:20260508T190000
DTSTAMP:20260425T142957Z
URL:https://www.earlymusicamerica.org/events/happy-hour-season-finale-musi
 ckes-cordes-may-8/
SUMMARY:Happy Hour Season Finale - Musicke's Cordes - May 8
DESCRIPTION:“Where Music Is\,No Evil Thing Can Be”Spanish Influencein t
 he 16th and 17th Centuries\nSpoken by Don Quijote’s sidekick Sancho Panz
 a\, the title of our final program is drawn from Miguel de Cervantes' famo
 us novel and reflects his appreciation of music. While Don Quiote's music
 al skills were little better than his knightly talents\, the novel\, like 
 Spain\, is full of people singing\, dancing and playing. Musicke's Cordes'
  season finale starts with music from Renaissance Spain but expands to see
  how Spain's music ranged across borders\, mountains and even oceans. \nFr
 om Spanish ricercars to New World ciaconnas\, from French chaconnes 
 to Austrian passacaglias\, this concert offers a glimpse at the reach o
 f Iberian music across Europe in the 16th and 17th centuries.
ATTACH;FMTTYPE=image/jpeg:https://www.earlymusicamerica.org/wp-content/upl
 oads/2026/04/SamJeff.jpg
CATEGORIES:Concerts
LOCATION:Epiphany Lutheran\, 790 So. Corona St\, Denver\, CO\, 80209\, Unit
 ed States
X-APPLE-STRUCTURED-LOCATION;VALUE=URI;X-ADDRESS=790 So. Corona St\, Denver\
 , CO\, 80209\, United States;X-APPLE-RADIUS=100;X-TITLE=Epiphany Lutheran:
 geo:0,0
END:VEVENT
BEGIN:VTIMEZONE
TZID:America/Denver
X-LIC-LOCATION:America/Denver
BEGIN:DAYLIGHT
DTSTART:20260308T030000
TZOFFSETFROM:-0700
TZOFFSETTO:-0600
TZNAME:MDT
END:DAYLIGHT
END:VTIMEZONE
END:VCALENDAR