BEGIN:VCALENDAR
VERSION:2.0
PRODID:-//wp-events-plugin.com//7.2.3.1//EN
TZID:America/New_York
X-WR-TIMEZONE:America/New_YorkBEGIN:VCALENDAR
VERSION:2.0
PRODID:-//wp-events-plugin.com//7.2.3.1//EN
TZID:America/New_York
X-WR-TIMEZONE:America/New_York
BEGIN:VEVENT
UID:1190@earlymusicamerica.org
DTSTART;TZID=America/New_York:20260502T200000
DTEND;TZID=America/New_York:20260502T213000
DTSTAMP:20260318T091548Z
URL:https://www.earlymusicamerica.org/events/harpsichordist-benjamin-alard
 -plays-bach-in-kothen-the-happy-years/
SUMMARY:Harpsichordist Benjamin Alard plays Bach in Köthen 1717-1723 - The
  Happy Years
DESCRIPTION:Celebrated French early keyboardist Benjamin Alard performs sel
 ections of J.S. Bach's works written1717 - 1723 when he lived in Köthen a
 nd enjoyed greater freedom to compose as he felt inclined.  On the progra
 m are the Chromatic Fantasia and Fugue in D minor BWV 903 and two English 
 Suites (No. 3 in G minor and No. 6 in D minor). This period was a golden e
 ra for Bach during which he had the latitude to explore emerging musical s
 tyles and trends from other countries and integrate them into his own work
 s.   Benjamin Alard\, with his unmatchable artistry and interpretive ski
 lls\, brings out the ingenuity and freshness of this lovely music.\n\nJoin
  us for a remarkable musical experience in the intimate hall at Live! at 1
 0th and G\, 945 G St. N.W.\, Washington D.C. 20001 on Saturday\, May 2 at 
 8:00 pm.  This venue is downtown and just steps from a Metro Center exit.
   It also offers under venue parking for a flat $15 fee with entry after 
 5:00 pm and exit before 11:00 pm.\n\nFor more details and for information 
 on this concert visit Capriccio Baroque at https://CapriccioBaroque.org  
 - Washington D.C.'s go-to venue for live harpsichord concerts.
ATTACH;FMTTYPE=image/jpeg:https://www.earlymusicamerica.org/wp-content/upl
 oads/2026/02/EMAAD03182026.jpg
CATEGORIES:Concerts
LOCATION:Live! at 10th and G\, 945 G Street NW\, Washington \, DC\, 20015\,
  United States
GEO:38.898559;-77.025679
X-APPLE-STRUCTURED-LOCATION;VALUE=URI;X-ADDRESS=945 G Street NW\, Washingto
 n \, DC\, 20015\, United States;X-APPLE-RADIUS=100;X-TITLE=Live! at 10th a
 nd G:geo:38.898559,-77.025679
END:VEVENT
BEGIN:VTIMEZONE
TZID:America/New_York
X-LIC-LOCATION:America/New_York
BEGIN:DAYLIGHT
DTSTART:20260308T030000
TZOFFSETFROM:-0500
TZOFFSETTO:-0400
TZNAME:EDT
END:DAYLIGHT
END:VTIMEZONE
END:VCALENDAR