BEGIN:VCALENDAR
VERSION:2.0
PRODID:-//wp-events-plugin.com//7.2.3.1//EN
TZID:America/New_York
X-WR-TIMEZONE:America/New_YorkBEGIN:VCALENDAR
VERSION:2.0
PRODID:-//wp-events-plugin.com//7.2.3.1//EN
TZID:America/New_York
X-WR-TIMEZONE:America/New_York
BEGIN:VEVENT
UID:1189@earlymusicamerica.org
DTSTART;TZID=America/New_York:20260430T200000
DTEND;TZID=America/New_York:20260430T213000
DTSTAMP:20260318T090428Z
URL:https://www.earlymusicamerica.org/events/harpsichordist-benjamin-alard
 -plays-bachs-italian-style-concertos/
SUMMARY:Harpsichordist Benjamin Alard plays Bach's 'Italian Style' Concerto
 s
DESCRIPTION:Hear renowned French keyboard artist Benjamin Alard play Bach's
  vibrant\, richly textured concertos - a concert where Baroque passion mee
 ts harpsichord artistry!\n\nBenjamin Alard will perform four of J.S. Bach'
 s Italian-style Concertos that draw on orchestral works largely by Antonio
  Vivaldi.  Bach's wondrous transcriptions of these works for solo harpsic
 hord are richly textured and deeply compelling.  Played by this exception
 al artist with his radiant virtuosity and lyrical grace\, this will will b
 e a truly uplifting and memorable concert.\n\nThe concert will be held dow
 ntown D.C. in the lovely concert space at Live! at 10th and G\, 945 G St. 
 N.W.\, DC 20001.  Just a few steps from a Metro Center exit or\, if drivi
 ng\, with under-venue parking for a flat rate $15 charge with entry after 
 5:00pm and exit before 11:00 pm.\n\nFor more details and for information o
 n this concert  visit https://CapriccioBaroque.org  - Washington D.C.'s 
 go-to venue for live harpsichord concerts.
ATTACH;FMTTYPE=image/jpeg:https://www.earlymusicamerica.org/wp-content/upl
 oads/2026/02/EMA-ADS-5.png
CATEGORIES:Concerts
LOCATION:Live! at 10th and G\, 945 G Street NW\, Washington \, DC\, 20015\,
  United States
GEO:38.898559;-77.025679
X-APPLE-STRUCTURED-LOCATION;VALUE=URI;X-ADDRESS=945 G Street NW\, Washingto
 n \, DC\, 20015\, United States;X-APPLE-RADIUS=100;X-TITLE=Live! at 10th a
 nd G:geo:38.898559,-77.025679
END:VEVENT
BEGIN:VTIMEZONE
TZID:America/New_York
X-LIC-LOCATION:America/New_York
BEGIN:DAYLIGHT
DTSTART:20260308T030000
TZOFFSETFROM:-0500
TZOFFSETTO:-0400
TZNAME:EDT
END:DAYLIGHT
END:VTIMEZONE
END:VCALENDAR