BEGIN:VCALENDAR
VERSION:2.0
PRODID:-//wp-events-plugin.com//7.2.3.1//EN
TZID:America/New_York
X-WR-TIMEZONE:America/New_YorkBEGIN:VCALENDAR
VERSION:2.0
PRODID:-//wp-events-plugin.com//7.2.3.1//EN
TZID:America/New_York
X-WR-TIMEZONE:America/New_York
BEGIN:VEVENT
UID:28@earlymusicamerica.org
DTSTART;TZID=America/Chicago:20240920T193000
DTEND;TZID=America/Chicago:20240920T213000
DTSTAMP:20240911T143627Z
URL:https://www.earlymusicamerica.org/events/in-praise-of-virtue/
SUMMARY:In Praise of Virtue
DESCRIPTION:GRAMMY-nominated Baroque ensemble Ars Lyrica Houston’s season
  opener\, In Praise of Virtue\, spotlights countertenor Aryeh Nussbaum Coh
 en\, a “young star” (New York Times) and local favorite since his time
  in the HGO Studio. Nussbaum Cohen will share the stage with “breakout
 ” soprano (Boston Globe) Hannah De Priest\, in her Ars Lyrica debut.\n\n
 This program features two rarely heard solo cantatas by J.S. Bach and G.F.
  Handel and dramatic excerpts from J.A. Hasse’s noble love story\, Marc-
 Antonio e Cleopatra\, all performed with Ars Lyrica’s renowned Baroque o
 rchestra.\n\nIn-person and digital tickets are available at the Ars Lyrica
  website.\nhttps://www.arslyricahouston.org/inpraiseofvirtue\n\nOn the pro
 gram:\nHandel\, Splenda l’alba in oriente HWV 166\nBach\, Ich bin vergn
 ügt BWV 84\nTelemann\, Concerto for 3 Oboes and 3 Violins TWV\nExcerpts f
 rom Hasse\, Marc’Antonio e Cleopatra\n\nFeatured artists:\nHannah De Pri
 est\, soprano˚\nAryeh Nussbaum\, countertenor\n\n˚ Ars Lyrica debut
ATTACH;FMTTYPE=image/jpeg:https://www.earlymusicamerica.org/wp-content/upl
 oads/2024/09/ars-lyrica-ttb-2024-2025-in-praise-1920x1080-1.jpeg
CATEGORIES:Concerts
LOCATION:Zilkha Hall at the Hobby Center for Performing Arts\, 800 Bagby St
 \, Houston\, Texas\, 77002\, United States
X-APPLE-STRUCTURED-LOCATION;VALUE=URI;X-ADDRESS=800 Bagby St\, Houston\, Te
 xas\, 77002\, United States;X-APPLE-RADIUS=100;X-TITLE=Zilkha Hall at the 
 Hobby Center for Performing Arts:geo:0,0
END:VEVENT
BEGIN:VTIMEZONE
TZID:America/Chicago
X-LIC-LOCATION:America/Chicago
BEGIN:DAYLIGHT
DTSTART:20240310T030000
TZOFFSETFROM:-0600
TZOFFSETTO:-0500
TZNAME:CDT
END:DAYLIGHT
END:VTIMEZONE
END:VCALENDAR