BEGIN:VCALENDAR
VERSION:2.0
PRODID:-//wp-events-plugin.com//7.2.3.1//EN
TZID:America/New_York
X-WR-TIMEZONE:America/New_YorkBEGIN:VCALENDAR
VERSION:2.0
PRODID:-//wp-events-plugin.com//7.2.3.1//EN
TZID:America/New_York
X-WR-TIMEZONE:America/New_York
BEGIN:VEVENT
UID:1211@earlymusicamerica.org
DTSTART;TZID=America/New_York:20260327T193000
DTEND;TZID=America/New_York:20260327T213000
DTSTAMP:20260307T202801Z
URL:https://www.earlymusicamerica.org/events/johannes-okeghem-missa-cuiusv
 is-toni-andover/
SUMMARY:Johannes Okeghem: Missa Cuiusvis toni (Andover)
DESCRIPTION:\nOne of Okeghem’s most dazzling compositional feats is this 
 Mass “in whatsoever mode\,” which can be sung three ways\, each with i
 ts own distinct scale and harmonic palette. We will sing the complete Mass
  in all three modes in West Parish’s resonant and intimate chapel\, inte
 rpolating an explanatory presentation by Scott Metcalfe.\n\n\nA similar pr
 ogram will be presented in Cambridge on March 28.\n
ATTACH;FMTTYPE=image/jpeg:https://www.earlymusicamerica.org/wp-content/upl
 oads/2026/03/Cuiusvis-toni-Andover.png
CATEGORIES:Concerts
LOCATION:The Chapel at West Parish\, 210 Lowell St.\, Andover\, MA\, 01810\
 , United States
X-APPLE-STRUCTURED-LOCATION;VALUE=URI;X-ADDRESS=210 Lowell St.\, Andover\, 
 MA\, 01810\, United States;X-APPLE-RADIUS=100;X-TITLE=The Chapel at West P
 arish:geo:0,0
END:VEVENT
BEGIN:VTIMEZONE
TZID:America/New_York
X-LIC-LOCATION:America/New_York
BEGIN:DAYLIGHT
DTSTART:20260308T030000
TZOFFSETFROM:-0500
TZOFFSETTO:-0400
TZNAME:EDT
END:DAYLIGHT
END:VTIMEZONE
END:VCALENDAR