BEGIN:VCALENDAR
VERSION:2.0
PRODID:-//wp-events-plugin.com//7.2.3.1//EN
TZID:America/New_York
X-WR-TIMEZONE:America/New_YorkBEGIN:VCALENDAR
VERSION:2.0
PRODID:-//wp-events-plugin.com//7.2.3.1//EN
TZID:America/New_York
X-WR-TIMEZONE:America/New_York
BEGIN:VEVENT
UID:1320@earlymusicamerica.org
DTSTART;TZID=America/New_York:20260503T180000
DTEND;TZID=America/New_York:20260503T200000
DTSTAMP:20260421T174142Z
URL:https://www.earlymusicamerica.org/events/machaut-weekend-cabaret-conce
 rt-machaut-the-ars-subtilior/
SUMMARY:Machaut Weekend: Cabaret Concert: Machaut &amp\; the Ars subtilior
DESCRIPTION:Wrap up the weekend with a program connecting Machaut to the ne
 xt generation. Late-14th-century Ars subtilior (the “more subtle art
 ”) composers built on his work\, crafting songs about mysterious\, smoky
  speculators known as fumeurs. Enjoy projected texts and illustrations\, a
  taste of French food &amp\; drink\, and—as an extra treat—learn how t
 o sing a virelai!
ATTACH;FMTTYPE=image/jpeg:https://www.earlymusicamerica.org/wp-content/upl
 oads/2026/04/Cabaret.png
CATEGORIES:Concerts,Festivals
LOCATION:The Allen Center\, 35 Webster St. \, West Newton\, MA\, 02465\, Un
 ited States
GEO:42.350695;-71.228142
X-APPLE-STRUCTURED-LOCATION;VALUE=URI;X-ADDRESS=35 Webster St. \, West Newt
 on\, MA\, 02465\, United States;X-APPLE-RADIUS=100;X-TITLE=The Allen Cente
 r:geo:42.350695,-71.228142
END:VEVENT
BEGIN:VTIMEZONE
TZID:America/New_York
X-LIC-LOCATION:America/New_York
BEGIN:DAYLIGHT
DTSTART:20260308T030000
TZOFFSETFROM:-0500
TZOFFSETTO:-0400
TZNAME:EDT
END:DAYLIGHT
END:VTIMEZONE
END:VCALENDAR