BEGIN:VCALENDAR
VERSION:2.0
PRODID:-//wp-events-plugin.com//7.2.3.1//EN
TZID:America/New_York
X-WR-TIMEZONE:America/New_YorkBEGIN:VCALENDAR
VERSION:2.0
PRODID:-//wp-events-plugin.com//7.2.3.1//EN
TZID:America/New_York
X-WR-TIMEZONE:America/New_York
BEGIN:VEVENT
UID:1319@earlymusicamerica.org
DTSTART;TZID=America/New_York:20260502T203000
DTEND;TZID=America/New_York:20260502T213000
DTSTAMP:20260421T173914Z
URL:https://www.earlymusicamerica.org/events/machaut-weekend-candlelight-c
 oncerts-messe-de-nostre-dame-2/
SUMMARY:Machaut Weekend: Candlelight Concerts: Messe de Nostre dame
DESCRIPTION:Join us on Saturday evening for an intimate performance of Mach
 aut’s entrancing Messe de Nostre Dame in the most gothic venue in Bost
 on\, lit entirely by candles—as close as we could come to the piece’s 
 likely original context\, a Saturday evening Lady Mass at a side altar in 
 Reims Cathedral.
ATTACH;FMTTYPE=image/jpeg:https://www.earlymusicamerica.org/wp-content/upl
 oads/2026/04/May-2-Lindsey-Chapel.png
CATEGORIES:Concerts,Festivals
LOCATION:Lindsey Chapel at Emmanuel Church\, 15 Newbury St.\, Boston\, MA\,
  02116\, United States
X-APPLE-STRUCTURED-LOCATION;VALUE=URI;X-ADDRESS=15 Newbury St.\, Boston\, M
 A\, 02116\, United States;X-APPLE-RADIUS=100;X-TITLE=Lindsey Chapel at Emm
 anuel Church:geo:0,0
END:VEVENT
BEGIN:VTIMEZONE
TZID:America/New_York
X-LIC-LOCATION:America/New_York
BEGIN:DAYLIGHT
DTSTART:20260308T030000
TZOFFSETFROM:-0500
TZOFFSETTO:-0400
TZNAME:EDT
END:DAYLIGHT
END:VTIMEZONE
END:VCALENDAR