BEGIN:VCALENDAR
VERSION:2.0
PRODID:-//wp-events-plugin.com//7.2.3.1//EN
TZID:America/New_York
X-WR-TIMEZONE:America/New_YorkBEGIN:VCALENDAR
VERSION:2.0
PRODID:-//wp-events-plugin.com//7.2.3.1//EN
TZID:America/New_York
X-WR-TIMEZONE:America/New_York
BEGIN:VEVENT
UID:1316@earlymusicamerica.org
DTSTART;TZID=America/New_York:20260501T193000
DTEND;TZID=America/New_York:20260501T210000
DTSTAMP:20260421T173334Z
URL:https://www.earlymusicamerica.org/events/machaut-weekend-opening-festi
 vities-keynote-performance-sing-along/
SUMMARY:Machaut Weekend: Opening Festivities: Keynote\, Performance &amp\; 
 Sing-Along
DESCRIPTION:Join us for a three-day festival featuring the poetry and music
  of 14th-century Europe’s greatest poet and composer\, Guillaume de Mac
 haut (d. 1377).\n\nOur celebration of Machaut begins with a keynote talk 
 by one of the world’s leading scholars of 14th-century music\, Anne Sto
 ne (CUNY Graduate Center)\, performances of pieces in several of the genr
 es represented in Machaut’s oeuvre\, and a sing-along of the Kyrie from 
 the Messe de Nostre Dame.
ATTACH;FMTTYPE=image/jpeg:https://www.earlymusicamerica.org/wp-content/upl
 oads/2026/04/May-1-Keynote.png
CATEGORIES:Concerts,Festivals
LOCATION:The Allen Center\, 35 Webster St. \, West Newton\, MA\, 02465\, Un
 ited States
GEO:42.350695;-71.228142
X-APPLE-STRUCTURED-LOCATION;VALUE=URI;X-ADDRESS=35 Webster St. \, West Newt
 on\, MA\, 02465\, United States;X-APPLE-RADIUS=100;X-TITLE=The Allen Cente
 r:geo:42.350695,-71.228142
END:VEVENT
BEGIN:VTIMEZONE
TZID:America/New_York
X-LIC-LOCATION:America/New_York
BEGIN:DAYLIGHT
DTSTART:20260308T030000
TZOFFSETFROM:-0500
TZOFFSETTO:-0400
TZNAME:EDT
END:DAYLIGHT
END:VTIMEZONE
END:VCALENDAR