BEGIN:VCALENDAR
VERSION:2.0
PRODID:-//wp-events-plugin.com//7.2.3.1//EN
TZID:America/New_York
X-WR-TIMEZONE:America/New_YorkBEGIN:VCALENDAR
VERSION:2.0
PRODID:-//wp-events-plugin.com//7.2.3.1//EN
TZID:America/New_York
X-WR-TIMEZONE:America/New_York
BEGIN:VEVENT
UID:1326@earlymusicamerica.org
DTSTART;TZID=America/New_York:20260502T143000
DTEND;TZID=America/New_York:20260502T161500
DTSTAMP:20260423T010745Z
URL:https://www.earlymusicamerica.org/events/making-ouvertures/
SUMMARY:Making Ouvertures
DESCRIPTION:In 1723\, when Hamburg\, Germany’s officials wanted music for
  a celebration of the city’s maritime heritage\, they turned to their fa
 mous local composer\, Georg Philipp Telemann. The Overture he gave them ca
 ptured the motion and character of Hamburg’s main waterway\, the River E
 lbe\, from musical portraits of mythological water spirits to the stomping
  dances of local boatmen.\nTelemann’s “Water Music: Hamburg\, Ebb and 
 Flow” is the centerpiece of Arcadia Players’ final concert of the seas
 on. Also on the program are overtures by two of Telemann’s contemporarie
 s\, Johann Caspar Fischer and Johann Bernhard Bach (J.S. Bach’s cousin).
  Andrus Madsen directs the Arcadia Players ensemble. Please join us on Sat
 urday for an afternoon of joyous\, rousing music.
ATTACH;FMTTYPE=image/jpeg:https://www.earlymusicamerica.org/wp-content/upl
 oads/2026/04/Arcadia-Players-flyer-May-2-png.png
CATEGORIES:Concerts
LOCATION:Wesley United Methodist Church\, 98 N. Maple St.\, Hadley\, MA\, 0
 1035\, United States
GEO:42.37444;-72.549932
X-APPLE-STRUCTURED-LOCATION;VALUE=URI;X-ADDRESS=98 N. Maple St.\, Hadley\, 
 MA\, 01035\, United States;X-APPLE-RADIUS=100;X-TITLE=Wesley United Method
 ist Church:geo:42.37444,-72.549932
END:VEVENT
BEGIN:VTIMEZONE
TZID:America/New_York
X-LIC-LOCATION:America/New_York
BEGIN:DAYLIGHT
DTSTART:20260308T030000
TZOFFSETFROM:-0500
TZOFFSETTO:-0400
TZNAME:EDT
END:DAYLIGHT
END:VTIMEZONE
END:VCALENDAR