BEGIN:VCALENDAR
VERSION:2.0
PRODID:-//wp-events-plugin.com//7.2.3.1//EN
TZID:America/New_York
X-WR-TIMEZONE:America/New_YorkBEGIN:VCALENDAR
VERSION:2.0
PRODID:-//wp-events-plugin.com//7.2.3.1//EN
TZID:America/New_York
X-WR-TIMEZONE:America/New_York
BEGIN:VEVENT
UID:1173@earlymusicamerica.org
DTSTART;TZID=America/New_York:20260221T190000
DTEND;TZID=America/New_York:20260221T220000
DTSTAMP:20260206T194137Z
URL:https://www.earlymusicamerica.org/events/melzita-album-release-hildega
 rd-von-bingen-rocky-duval-andrea-roberts/
SUMMARY:MELZITA album release - Hildegard von Bingen\, Rocky Duval &amp\; A
 ndrea Roberts
DESCRIPTION:\nCome enjoy Hildegard of Bingen's music in this debut album ME
 LZITA \, featuring Rocky Duval &amp\; Andrea Roberts\n\n\n\nMELZITA Album 
 Release + Concert with Rocky Duval &amp\; Andrea Roberts!\nJoin us in pers
 on to celebrate the launch of MELZITA featuring Rocky Duval &amp\; Andrea 
 Roberts performing their take on Hildegard von Bingen's 12th century chant
 s\, and Rocky's original compositions in Hildegard's secret language\, Lin
 gua Ignota. Get ready for a night filled with Spirit\, Soul\, and Sound 
 – help us bring this piece of art into the world!\n\n
ATTACH;FMTTYPE=image/jpeg:https://www.earlymusicamerica.org/wp-content/upl
 oads/2026/02/Blank-Cover.jpg
CATEGORIES:Concerts
LOCATION:EdgeCut Arts\, 457 Broome St. \, New York\, NY\, United States
GEO:40.722162;-74.001069
X-APPLE-STRUCTURED-LOCATION;VALUE=URI;X-ADDRESS=457 Broome St. \, New York\
 , NY\, United States;X-APPLE-RADIUS=100;X-TITLE=EdgeCut Arts:geo:40.722162
 ,-74.001069
END:VEVENT
BEGIN:VTIMEZONE
TZID:America/New_York
X-LIC-LOCATION:America/New_York
BEGIN:STANDARD
DTSTART:20251102T010000
TZOFFSETFROM:-0400
TZOFFSETTO:-0500
TZNAME:EST
END:STANDARD
END:VTIMEZONE
END:VCALENDAR