BEGIN:VCALENDAR
VERSION:2.0
PRODID:-//wp-events-plugin.com//7.2.3.1//EN
TZID:America/New_York
X-WR-TIMEZONE:America/New_YorkBEGIN:VCALENDAR
VERSION:2.0
PRODID:-//wp-events-plugin.com//7.2.3.1//EN
TZID:America/New_York
X-WR-TIMEZONE:America/New_York
BEGIN:VEVENT
UID:1225@earlymusicamerica.org
DTSTART;TZID=America/New_York:20260326T131500
DTEND;TZID=America/New_York:20260326T140000
DTSTAMP:20260317T162129Z
URL:https://www.earlymusicamerica.org/events/midtown-concerts-passiflora-m
 usica/
SUMMARY:Midtown Concerts: Passiflora Musica
DESCRIPTION:Spectacolo di Salterio\n&nbsp\;\nMarc Armitano Domingo ~ Baroqu
 e salterioDušan Balarin ~ Baroque guitar &amp\; theorboLydia Becker ~ vio
 linJimmy Drancsak ~ violin &amp\; violaClara Abel ~ cello\nSpectacolo di S
 alterio explores the vast and varied repertoire of the salterio during it
 s heyday. The salterio\, a type of chromatic psaltery that can be played w
 ith little mallets or by plucking\, became increasingly popular during the
  18th century amongst high society and court musicians in Italy\, Spain\, 
 and Latin America. Its repertoire\, which is still being uncovered to this
  day\, shows the many uses the instrument had. From solo unaccompanied mus
 ic\, sonatas with basso continuo\, chamber music\, obligato instrument in 
 theatre and sacred spectacles\, concerto soloist\, and also as a basso con
 tinuo instrument\, the salterio could really do it all. The program will f
 eature a sampler of salterio repertoire\, from the earliest surviving piec
 e for salterio from Vivaldi’s Il Giustino to fandangos and other popul
 ar Spanish music from the 18th century to the first decades of the 19th ce
 ntury.\nPassiflora Harmonica is an ensemble led by Marc Armitano Domingo 
 on salterio and Dušan Balarin on theorbo and Baroque guitar featuring Jim
 my Drancsak and Lidya Becker on violins and Clara Abel on cello. The ensem
 ble presents dynamic programs of the music available to cosmopolitan music
 ians in the Spanish Empire during the 18th century\, with solos for salter
 io and Baroque guitar\, to larger scale pieces that showcase the lush ense
 mble sound of this particular instrumentation.\n[embed]https://youtube.com
 /live/n3dZVkgmkwY?feature=share[/embed]
ATTACH;FMTTYPE=image/jpeg:https://www.earlymusicamerica.org/wp-content/upl
 oads/2026/03/Passiflora26EMA.jpg
CATEGORIES:Concerts
LOCATION:St. Malachy Roman Catholic Church - The Actors' Chapel\, 239 West 
 49th Street\, New York`\, NY\, 10019\, United States
X-APPLE-STRUCTURED-LOCATION;VALUE=URI;X-ADDRESS=239 West 49th Street\, New 
 York`\, NY\, 10019\, United States;X-APPLE-RADIUS=100;X-TITLE=St. Malachy 
 Roman Catholic Church - The Actors' Chapel:geo:0,0
END:VEVENT
BEGIN:VTIMEZONE
TZID:America/New_York
X-LIC-LOCATION:America/New_York
BEGIN:DAYLIGHT
DTSTART:20260308T030000
TZOFFSETFROM:-0500
TZOFFSETTO:-0400
TZNAME:EDT
END:DAYLIGHT
END:VTIMEZONE
END:VCALENDAR