BEGIN:VCALENDAR
VERSION:2.0
PRODID:-//Early Music America - ECPv5.9.0//NONSGML v1.0//EN
CALSCALE:GREGORIAN
METHOD:PUBLISH
X-WR-CALNAME:Early Music America
X-ORIGINAL-URL:https://www.earlymusicamerica.org
X-WR-CALDESC:Events for Early Music America
BEGIN:VTIMEZONE
TZID:America/New_York
BEGIN:DAYLIGHT
TZOFFSETFROM:-0500
TZOFFSETTO:-0400
TZNAME:EDT
DTSTART:20210314T070000
END:DAYLIGHT
BEGIN:STANDARD
TZOFFSETFROM:-0400
TZOFFSETTO:-0500
TZNAME:EST
DTSTART:20211107T060000
END:STANDARD
TZID:America/Los_Angeles
BEGIN:DAYLIGHT
TZOFFSETFROM:-0800
TZOFFSETTO:-0700
TZNAME:PDT
DTSTART:20210314T100000
END:DAYLIGHT
BEGIN:STANDARD
TZOFFSETFROM:-0700
TZOFFSETTO:-0800
TZNAME:PST
DTSTART:20211107T090000
END:STANDARD
END:VTIMEZONE
BEGIN:VEVENT
DTSTART;TZID=America/New_York:20210818T193000
DTEND;TZID=America/New_York:20210818T213000
DTSTAMP:20210917T204308
CREATED:20210713T211843Z
LAST-MODIFIED:20210713T212952Z
UID:68457-1629315000-1629322200@www.earlymusicamerica.org
SUMMARY:The Intimate Bach
DESCRIPTION:This intimate performance will feature music for harpsichord\, in the inaugural concert of an instrument recently donated to Blue Hill Bach. Festival Music Director John Finney will be the featured soloist in Bach’s Brandenburg Concerto No. 5.  Other music on the program will include selections from the “Notebooks for Anna Magdalena Bach\,” Bach’s violin sonata in E major performed by Jude Ziliak\, and an organ prelude specially composed for the occasion by this year’s Blue Hill Bach Young Artist Fellow\, Julian Bennett-Holmes.
URL:https://www.earlymusicamerica.org/event/the-intimate-bach/
LOCATION:St. Francis by the Sea Episcopal Church\, 330 Hinckley Ridge Road\, Blue Hill\, ME\, 04614\, United States
CATEGORIES:Festivals
ATTACH;FMTTYPE=image/png:https://www.earlymusicamerica.org/wp-content/uploads/2021/07/BHBX-2021-Festival-logo-2-copy.png
ORGANIZER;CN="Blue%20Hill%20Bach":MAILTO:info@bluehillbach.org
GEO:44.4310103;-68.6284937
X-APPLE-STRUCTURED-LOCATION;VALUE=URI;X-ADDRESS=St. Francis by the Sea Episcopal Church 330 Hinckley Ridge Road Blue Hill ME 04614 United States;X-APPLE-RADIUS=500;X-TITLE=330 Hinckley Ridge Road:geo:-68.6284937,44.4310103
END:VEVENT
BEGIN:VEVENT
DTSTART;VALUE=DATE:20210819
DTEND;VALUE=DATE:20210820
DTSTAMP:20210917T204308
CREATED:20210813T173246Z
LAST-MODIFIED:20210816T161904Z
UID:68955-1629331200-1629417599@www.earlymusicamerica.org
SUMMARY:Houston Early Music Presents: The Baltimore Consort & Main Street Theater (Virtual Event)
DESCRIPTION:Available for streaming August 19 through 22\, Houston Early Music presents concert video of The Baltimore Consort at the 2016 Madison Early Music Festival\, intercut w/ actors from Main Street Theater performing Shakespeare readings.  A pre-concert lecture provided by Mark Cudek & Larry Lipkis will also be available August 18 through 22. \nhttps://baltimoreconsort.com/
URL:https://www.earlymusicamerica.org/event/houston-early-music-presents-the-baltimore-consort-main-street-theater-virtual-event/
CATEGORIES:Concerts,Podcast/Video Premiere
ATTACH;FMTTYPE=image/jpeg:https://www.earlymusicamerica.org/wp-content/uploads/2021/08/Baltimore-Consort-Horizontal.jpg
ORGANIZER;CN="Houston%20Early%20Music":MAILTO:info@houstonearlymusic.org 
END:VEVENT
BEGIN:VEVENT
DTSTART;TZID=America/New_York:20210819T120000
DTEND;TZID=America/New_York:20210819T130000
DTSTAMP:20210917T204308
CREATED:20210713T212113Z
LAST-MODIFIED:20210713T213030Z
UID:68460-1629374400-1629378000@www.earlymusicamerica.org
SUMMARY:Bach’s Lunch
DESCRIPTION:Join Blue Hill Bach for our beloved Bach’s Lunch event\, a treasured part of our annual festival\, a lecture-demonstration about the music in this year’s festival presented by conductor John Finney and members of the ensemble. Free admission.
URL:https://www.earlymusicamerica.org/event/bachs-lunch/
LOCATION:Blue Hill Coop\, 70 South Street\, Blue Hill\, ME\, 04614\, United States
CATEGORIES:Festivals
ATTACH;FMTTYPE=image/png:https://www.earlymusicamerica.org/wp-content/uploads/2021/07/BHBX-2021-Festival-logo-2-copy-1.png
ORGANIZER;CN="Blue%20Hill%20Bach":MAILTO:info@bluehillbach.org
GEO:44.4046581;-68.5927229
X-APPLE-STRUCTURED-LOCATION;VALUE=URI;X-ADDRESS=Blue Hill Coop 70 South Street Blue Hill ME 04614 United States;X-APPLE-RADIUS=500;X-TITLE=70 South Street:geo:-68.5927229,44.4046581
END:VEVENT
BEGIN:VEVENT
DTSTART;TZID=America/New_York:20210819T160000
DTEND;TZID=America/New_York:20210819T170000
DTSTAMP:20210917T204308
CREATED:20210712T152900Z
LAST-MODIFIED:20210712T160908Z
UID:68337-1629388800-1629392400@www.earlymusicamerica.org
SUMMARY:Expanding the Western Classical Music Canon with Paula Maust
DESCRIPTION:REGISTER NOW \nAlthough restrictive cultural expectations and the atrocities of slavery stifled an unfathomable amount of creative output\, numerous women and POC composed Western classical music before the twentieth century. Yet the voices of most of these composers have been erased from our historical narratives. Nowhere is this historical inaccuracy more prominent than in the complete dearth of gender and racial representation in contemporary pedagogical resources. For example\, the seven most-used music theory textbooks in the U.S. contain 2930 musical examples of which just 1.67% are by POC and 2.15% are by women. Most music history textbooks exhibit similar demographic patterns\, with the only substantial racial and gender representation occurring in chapters on contemporary music. How did we get to this point of serious erasure two decades into the twenty-first century? My presentation introduces my endeavors to begin the process of correcting the narrative about musical women and POC through Expanding the Music Theory Canon. In addition to tracing the development of the Western classical music canon in tandem with pedagogical and reference resources\, I evaluate the pejorative sexist and racist tropes that remain prevalent in biographical writing about underrepresented composers\, discuss the results of a recent study I conducted on representation in music education\, and introduce the music of several composers. Ultimately\, I point to the ways we can meaningfully contribute to the changing face of Western classical music. \n\nDr. Paula Maust is a performer\, scholar\, and educator dedicated to fusing research and creative practice to amplify underrepresented voices and advocate for social change. She is the creator of expandingthemusictheorycanon.com\, an open-source collection of music theory examples by women and composers of color. A print anthology based on the project is under contract with SUNY Press\, and she has published articles in Women & Music and the Journal of the International Alliance for Women in Music. She is currently working on The Ugly Virtuosa\, a book and performance project about the pejorative language used to describe early modern women on stage in England\, France\, and Italy. As a harpsichordist and organist\, she co-directs Burning River Baroque and Musica Spira\, curating thought-provoking programs that connect baroque music to contemporary social issues. Beginning Fall 2021\, Paula will be an Assistant Professor of Music Theory at the Peabody Institute of the Johns Hopkins University. Prior to her appointment at Peabody\, she taught at the University of Maryland\, Baltimore County. See paula.maust.com
URL:https://www.earlymusicamerica.org/event/expanding-the-western-classical-music-canon/
CATEGORIES:EMA Event (EMA use only),EMA Webinar (EMA use only),Webinar or Web Meeting
ORGANIZER;CN="Early%20Music%20America":MAILTO:info@earlymusicamerica.org
LOCATION:https://www.earlymusicamerica.org/event/expanding-the-western-classical-music-canon/
END:VEVENT
BEGIN:VEVENT
DTSTART;TZID=America/New_York:20210819T170000
DTEND;TZID=America/New_York:20210819T190000
DTSTAMP:20210917T204308
CREATED:20210713T212400Z
LAST-MODIFIED:20210713T212400Z
UID:68464-1629392400-1629399600@www.earlymusicamerica.org
SUMMARY:A Baroque Pick-Nick
DESCRIPTION:Join Blue Hill Bach for the 2021 Baroque Pick-Nick\, a classic part of their annual music festival.  The sail loft will be transformed into a Baroque Café\, with food and beverages available for purchase. Featuring Blue Hill Bach orchestra members\, including trumpeter Josh Cohen in Mr. Handel’s Water Piece\, bassoonist Andrew Schwartz and violinist YuEun Gemma Kim in concerti by Antonio Vivaldi\, and festival Artistic Director Stephen Hammer with Mr. Cohen and Ms. Kim as soloists in  festive selections from Georg Philipp Telemann’s Musique de table.
URL:https://www.earlymusicamerica.org/event/a-baroque-pick-nick/
LOCATION:Atlantic Boat Company Sail Loft\, 355 Flye Point Road\, Brooklin\, ME\, United States
CATEGORIES:Festivals
ATTACH;FMTTYPE=image/png:https://www.earlymusicamerica.org/wp-content/uploads/2021/07/BHBX-2021-Festival-logo-2-copy-2.png
ORGANIZER;CN="Blue%20Hill%20Bach":MAILTO:info@bluehillbach.org
GEO:44.26508;-68.528941
X-APPLE-STRUCTURED-LOCATION;VALUE=URI;X-ADDRESS=Atlantic Boat Company Sail Loft 355 Flye Point Road Brooklin ME United States;X-APPLE-RADIUS=500;X-TITLE=355 Flye Point Road:geo:-68.528941,44.26508
END:VEVENT
BEGIN:VEVENT
DTSTART;TZID=America/New_York:20210821T193000
DTEND;TZID=America/New_York:20210821T213000
DTSTAMP:20210917T204308
CREATED:20200326T161856Z
LAST-MODIFIED:20210816T190517Z
UID:50538-1629574200-1629581400@www.earlymusicamerica.org
SUMMARY:Ronn McFarlane and Ayreheart at Edith May’s Paradise
DESCRIPTION:***THIS CONCERT HAS BEEN RESCHEDULED FROM AUGUST 14\, DUE TO A POSSIBLE COVID EXPOSURE*** \nGrammy-nominated lutenist Ronn McFarlane will perform with his group Ayreheart. \nSinger songwriter Georgie Jessup will open. \nBYOB (& a dish or treat if you want to) \nFor more info or to RSVP\, call or send email. \nDoors open at 7:00pm. Showtime 7:30pm \nhttps://ronnmcfarlane.com/ \nhttps://www.ayreheart.com/
URL:https://www.earlymusicamerica.org/event/ronn-mcfarlane-and-ayreheart-at-edith-mays-paradise/
LOCATION:Edith May’s Paradise\, 7711 Apple Ave.\, Jessup\, MD\, 20794\, United States
ATTACH;FMTTYPE=image/jpeg:https://www.earlymusicamerica.org/wp-content/uploads/2020/03/Ayreheart-Trio_white-background-1.jpg
ORGANIZER;CN="Edith%20May%27s%20Paradise":MAILTO:georgie@georgiejessup.com
GEO:39.1493372;-76.7645585
X-APPLE-STRUCTURED-LOCATION;VALUE=URI;X-ADDRESS=Edith May’s Paradise 7711 Apple Ave. Jessup MD 20794 United States;X-APPLE-RADIUS=500;X-TITLE=7711 Apple Ave.:geo:-76.7645585,39.1493372
END:VEVENT
BEGIN:VEVENT
DTSTART;TZID=America/New_York:20210821T193000
DTEND;TZID=America/New_York:20210821T213000
DTSTAMP:20210917T204308
CREATED:20210713T212924Z
LAST-MODIFIED:20210713T212924Z
UID:68468-1629574200-1629581400@www.earlymusicamerica.org
SUMMARY:Songs of Praise and Jubilation
DESCRIPTION:The all-Bach festival finale to the 2021 Blue Hill Bach Festival will showcase eight of Blue Hill Bach’s singers in the motet\, Singet dem Herrn; BWV 225; Jauchzet Gott in alle Landen\, BWV 51\, featuring soprano Nola Richardson; and Cantata 147\, Herz und Mund und Tat und Leben.
URL:https://www.earlymusicamerica.org/event/songs-of-praise-and-jubilation/
LOCATION:Blue Hill Congregational Church\, 22 Tenney Hill\, Blue Hill\, ME\, 04614\, United States
CATEGORIES:Festivals
ATTACH;FMTTYPE=image/png:https://www.earlymusicamerica.org/wp-content/uploads/2021/07/BHBX-2021-Festival-logo-2-copy-3.png
ORGANIZER;CN="Blue%20Hill%20Bach":MAILTO:info@bluehillbach.org
GEO:44.4113067;-68.5914805
X-APPLE-STRUCTURED-LOCATION;VALUE=URI;X-ADDRESS=Blue Hill Congregational Church 22 Tenney Hill Blue Hill ME 04614 United States;X-APPLE-RADIUS=500;X-TITLE=22 Tenney Hill:geo:-68.5914805,44.4113067
END:VEVENT
BEGIN:VEVENT
DTSTART;TZID=America/New_York:20210822T150000
DTEND;TZID=America/New_York:20210822T163000
DTSTAMP:20210917T204308
CREATED:20210128T162405Z
LAST-MODIFIED:20210811T135455Z
UID:62664-1629644400-1629649800@www.earlymusicamerica.org
SUMMARY:Ronn McFarlane and Ayreheart at Springfield Presbyterian Church
DESCRIPTION:***THIS CONCERT HAS BEEN RESCHEDULED FROM AUGUST 15\, DUE TO A POSSIBLE COVID EXPOSURE*** \nGrammy-nominated lutenist Ronn McFarlane will perform with his instrumental trio Ayreheart. \nhttps://ronnmcfarlane.com/ \nhttps://www.ayreheart.com/
URL:https://www.earlymusicamerica.org/event/ronn-mcfarlane-and-ayreheart-at-springfield-presbyterian-church/
LOCATION:Springfield Presbyterian Church\, 7300 Spout Hill Rd.\, Sykesville\, 21784\, United States
ATTACH;FMTTYPE=image/jpeg:https://www.earlymusicamerica.org/wp-content/uploads/2021/01/Ayreheart_Trio-Photo_Brick-Wall-lower-res.jpeg
GEO:39.3739238;-76.9730147
X-APPLE-STRUCTURED-LOCATION;VALUE=URI;X-ADDRESS=Springfield Presbyterian Church 7300 Spout Hill Rd. Sykesville 21784 United States;X-APPLE-RADIUS=500;X-TITLE=7300 Spout Hill Rd.:geo:-76.9730147,39.3739238
END:VEVENT
BEGIN:VEVENT
DTSTART;TZID=America/Los_Angeles:20210825T193000
DTEND;TZID=America/Los_Angeles:20210825T210000
DTSTAMP:20210917T204308
CREATED:20210708T170201Z
LAST-MODIFIED:20210708T170309Z
UID:68195-1629919800-1629925200@www.earlymusicamerica.org
SUMMARY:The No One’s Rose
DESCRIPTION:Music\, poetry\, dance and theatre combine in The No One’s Rose—a new\, multifaceted\, genre-defying piece. PBO\, in partnership with the American Modern Opera Company and Stanford Live\, is heartened to bring this life-affirming work to the stage after more than six years in the making and a reschedule from its original premiere in October 2020. \nThe core of these performances is the poetry of Paul Celan\, who wrote some of the most arresting accounts of the Holocaust\, set to a new score for period instruments by the award-winning Matthew Aucoin. His score is just one part of a musical collage\, embracing music as diverse as Bach\, Sam Cooke and songs from popular culture. \nOriginally envisaged as a meditation on what happens after a catastrophe\, The No One’s Rose assumes more significance in the wake of the pandemic\, and it seems fitting that these performances strangely and wonderfully align with our return to live performance. \nThis new creation is realized by a star cast of artists and creatives working in collaboration to bring to life this bold new work for our times\, including Davóne Tines\, Julia Bullock\, Anthony Roth Costanzo\, and Paul Appleby\, all directed by the visionary Zack Winokur.
URL:https://www.earlymusicamerica.org/event/the-no-ones-rose/2021-08-25/
LOCATION:Bing Concert Hall\, 327 Lasuen Street\, Stanford\, CA\, 94305\, United States
CATEGORIES:Concerts
ATTACH;FMTTYPE=image/jpeg:https://www.earlymusicamerica.org/wp-content/uploads/2021/07/PBO-2021-illustration_NoOnesRose-1280x1536-1.jpg
ORGANIZER;CN="Philharmonia%20Baroque%20Orchestra%20%26amp%3B%20Chorale":MAILTO:marketing@philharmonia.org
GEO:37.4320436;-122.1661352
X-APPLE-STRUCTURED-LOCATION;VALUE=URI;X-ADDRESS=Bing Concert Hall 327 Lasuen Street Stanford CA 94305 United States;X-APPLE-RADIUS=500;X-TITLE=327 Lasuen Street:geo:-122.1661352,37.4320436
END:VEVENT
BEGIN:VEVENT
DTSTART;TZID=America/Los_Angeles:20210826T193000
DTEND;TZID=America/Los_Angeles:20210826T210000
DTSTAMP:20210917T204308
CREATED:20210708T170201Z
LAST-MODIFIED:20210708T170309Z
UID:68197-1630006200-1630011600@www.earlymusicamerica.org
SUMMARY:The No One’s Rose
DESCRIPTION:Music\, poetry\, dance and theatre combine in The No One’s Rose—a new\, multifaceted\, genre-defying piece. PBO\, in partnership with the American Modern Opera Company and Stanford Live\, is heartened to bring this life-affirming work to the stage after more than six years in the making and a reschedule from its original premiere in October 2020. \nThe core of these performances is the poetry of Paul Celan\, who wrote some of the most arresting accounts of the Holocaust\, set to a new score for period instruments by the award-winning Matthew Aucoin. His score is just one part of a musical collage\, embracing music as diverse as Bach\, Sam Cooke and songs from popular culture. \nOriginally envisaged as a meditation on what happens after a catastrophe\, The No One’s Rose assumes more significance in the wake of the pandemic\, and it seems fitting that these performances strangely and wonderfully align with our return to live performance. \nThis new creation is realized by a star cast of artists and creatives working in collaboration to bring to life this bold new work for our times\, including Davóne Tines\, Julia Bullock\, Anthony Roth Costanzo\, and Paul Appleby\, all directed by the visionary Zack Winokur.
URL:https://www.earlymusicamerica.org/event/the-no-ones-rose/2021-08-26/
LOCATION:Bing Concert Hall\, 327 Lasuen Street\, Stanford\, CA\, 94305\, United States
CATEGORIES:Concerts
ATTACH;FMTTYPE=image/jpeg:https://www.earlymusicamerica.org/wp-content/uploads/2021/07/PBO-2021-illustration_NoOnesRose-1280x1536-1.jpg
ORGANIZER;CN="Philharmonia%20Baroque%20Orchestra%20%26amp%3B%20Chorale":MAILTO:marketing@philharmonia.org
GEO:37.4320436;-122.1661352
X-APPLE-STRUCTURED-LOCATION;VALUE=URI;X-ADDRESS=Bing Concert Hall 327 Lasuen Street Stanford CA 94305 United States;X-APPLE-RADIUS=500;X-TITLE=327 Lasuen Street:geo:-122.1661352,37.4320436
END:VEVENT
BEGIN:VEVENT
DTSTART;TZID=America/New_York:20210828T160000
DTEND;TZID=America/New_York:20210828T180000
DTSTAMP:20210917T204308
CREATED:20210602T201851Z
LAST-MODIFIED:20210804T154439Z
UID:66979-1630166400-1630173600@www.earlymusicamerica.org
SUMMARY:Bach Arias: Songs of Comfort and Joy
DESCRIPTION:Bach Arias: Songs of Comfort and Joy\nGarden concert at the home of Shirley Collins in Langley\, WA \nSoprano Danielle Reutter-Harrah\, organist Henry Lebedinsky and violinist Tekla Cunningham join forces for a program of favorite Bach arias and chamber music\, as well as music by composer in the Bach circle such as Pachelbel and Kreiger. \nPlease bring a lawn chair or picnic blanket for this outdoor performance. To ensure the health and safety of our audience and performers we ask that you be fully vaccinated to attend this event.
URL:https://www.earlymusicamerica.org/event/bach-arias-songs-of-comfort-and-joy/
CATEGORIES:Concerts
ATTACH;FMTTYPE=image/png:https://www.earlymusicamerica.org/wp-content/uploads/2021/06/Bach-Arias-WIMF-FB-event-page.png
ORGANIZER;CN="Whidbey%20Island%20Music%20Festival":MAILTO:tekla@whidbeyislandmusicfestival.org
END:VEVENT
BEGIN:VEVENT
DTSTART;TZID=America/Los_Angeles:20210829T143000
DTEND;TZID=America/Los_Angeles:20210829T160000
DTSTAMP:20210917T204308
CREATED:20210708T170201Z
LAST-MODIFIED:20210708T170310Z
UID:68198-1630247400-1630252800@www.earlymusicamerica.org
SUMMARY:The No One’s Rose
DESCRIPTION:Music\, poetry\, dance and theatre combine in The No One’s Rose—a new\, multifaceted\, genre-defying piece. PBO\, in partnership with the American Modern Opera Company and Stanford Live\, is heartened to bring this life-affirming work to the stage after more than six years in the making and a reschedule from its original premiere in October 2020. \nThe core of these performances is the poetry of Paul Celan\, who wrote some of the most arresting accounts of the Holocaust\, set to a new score for period instruments by the award-winning Matthew Aucoin. His score is just one part of a musical collage\, embracing music as diverse as Bach\, Sam Cooke and songs from popular culture. \nOriginally envisaged as a meditation on what happens after a catastrophe\, The No One’s Rose assumes more significance in the wake of the pandemic\, and it seems fitting that these performances strangely and wonderfully align with our return to live performance. \nThis new creation is realized by a star cast of artists and creatives working in collaboration to bring to life this bold new work for our times\, including Davóne Tines\, Julia Bullock\, Anthony Roth Costanzo\, and Paul Appleby\, all directed by the visionary Zack Winokur.
URL:https://www.earlymusicamerica.org/event/the-no-ones-rose/2021-08-29/
LOCATION:Bing Concert Hall\, 327 Lasuen Street\, Stanford\, CA\, 94305\, United States
CATEGORIES:Concerts
ATTACH;FMTTYPE=image/jpeg:https://www.earlymusicamerica.org/wp-content/uploads/2021/07/PBO-2021-illustration_NoOnesRose-1280x1536-1.jpg
ORGANIZER;CN="Philharmonia%20Baroque%20Orchestra%20%26amp%3B%20Chorale":MAILTO:marketing@philharmonia.org
GEO:37.4320436;-122.1661352
X-APPLE-STRUCTURED-LOCATION;VALUE=URI;X-ADDRESS=Bing Concert Hall 327 Lasuen Street Stanford CA 94305 United States;X-APPLE-RADIUS=500;X-TITLE=327 Lasuen Street:geo:-122.1661352,37.4320436
END:VEVENT
END:VCALENDAR