BEGIN:VCALENDAR
VERSION:2.0
PRODID:-//wp-events-plugin.com//7.2.3.1//EN
TZID:America/New_York
X-WR-TIMEZONE:America/New_YorkBEGIN:VCALENDAR
VERSION:2.0
PRODID:-//wp-events-plugin.com//7.2.3.1//EN
TZID:America/New_York
X-WR-TIMEZONE:America/New_York
BEGIN:VEVENT
UID:233@earlymusicamerica.org
DTSTART;TZID=America/New_York:20240922T160000
DTEND;TZID=America/New_York:20240922T190000
DTSTAMP:20241109T162220Z
URL:https://www.earlymusicamerica.org/events/music-before-1800-amanda-fors
 ythe-with-pacific-musicworks/
SUMMARY:Music Before 1800: Amanda Forsythe with Pacific MusicWorks
DESCRIPTION:Our celebratory year will launch with a concert featuring Amand
 a Forsythe with Pacific MusicWorks. What would a 50th anniversary be witho
 ut tipple to toast? A taste for good life and celebration has always found
  a willing partner in wine\, as historical singing societies\, pubs\, thea
 tres\, and court music attest.\nSeventeenth century Rome was an unparallel
 ed musical Mecca: a concentration of both genius and patronage unknown els
 ewhere. For the modern world\, Rome has remained somewhat in the shadow of
  Monteverdi’s Venice\, partly because of the presence of that greatest l
 eader of the musical world\, and equally because of the presence in Venice
  (and the absence in Rome) of a powerful musical printing press. Our purpo
 se in this program is to give a glimpse of Rome’s musical life from the 
 early 17th century under the patronage of the Barberini family and led by 
 the composers Giacomo Carissimi and Luigi Rossi\, to the first decade of t
 he 18th century when the young Saxon Lion\, George Frideric Handel burst o
 nto the Roman musical scene.\n‘Forsythe’s voice is marvelous — clear
 \, florid\, and warm at the same time.‘Boston Globe
ATTACH;FMTTYPE=image/jpeg:https://www.earlymusicamerica.org/wp-content/upl
 oads/2024/11/Image-1030x687-1.jpeg
CATEGORIES:Concerts
LOCATION:The Riverside Church\, 91 Claremont Avenue\, New York\, NY\, 10027
 \, United States
X-APPLE-STRUCTURED-LOCATION;VALUE=URI;X-ADDRESS=91 Claremont Avenue\, New Y
 ork\, NY\, 10027\, United States;X-APPLE-RADIUS=100;X-TITLE=The Riverside 
 Church:geo:0,0
END:VEVENT
BEGIN:VTIMEZONE
TZID:America/New_York
X-LIC-LOCATION:America/New_York
BEGIN:DAYLIGHT
DTSTART:20240310T030000
TZOFFSETFROM:-0500
TZOFFSETTO:-0400
TZNAME:EDT
END:DAYLIGHT
END:VTIMEZONE
END:VCALENDAR