BEGIN:VCALENDAR
VERSION:2.0
PRODID:-//wp-events-plugin.com//7.2.3.1//EN
TZID:America/New_York
X-WR-TIMEZONE:America/New_YorkBEGIN:VCALENDAR
VERSION:2.0
PRODID:-//wp-events-plugin.com//7.2.3.1//EN
TZID:America/New_York
X-WR-TIMEZONE:America/New_York
BEGIN:VEVENT
UID:224@earlymusicamerica.org
DTSTART;TZID=America/New_York:20241109T180000
DTEND;TZID=America/New_York:20241109T193000
DTSTAMP:20241109T155402Z
URL:https://www.earlymusicamerica.org/events/music-before-1800-secret-byrd
 /
SUMMARY:Music Before 1800: Secret Byrd
DESCRIPTION:Composer William Byrd was a covert Catholic facing brutal perse
 cution during the Counter-Reformation in the 16th century. Hear Byrd’s M
 ass for Five Voices as he intended: sung for worship in strictest secrecy.
 \nEarly music phenoms The Gesualdo Six make their MB1800 debut from Britai
 n in this landmark performance that continues to tour the world. Don’t m
 iss this rare opportunity to experience this immersive staged mass inside 
 the largest cathedral in the world.\nGuaranteed seating is limited. Audien
 ces are encouraged to move around the space and experience the performance
  on foot. See ticketing page for details.\n‘Profound\, spiritual\, and b
 eautiful… Secret Byrd mixes music\, history and drama\, and what emerges
  is an experience that is neither concert nor theatre\, but something out 
 of life itself.’\nThe Financial Times
ATTACH;FMTTYPE=image/jpeg:https://www.earlymusicamerica.org/wp-content/upl
 oads/2024/11/BREMF-1-G6-Secret-Byrd-Sisi-Burn.jpg
CATEGORIES:Concerts
LOCATION:St. John the Divine\, 1047 Amsterdam Ave.\, New York\, New York\, 
 10019\, United States
X-APPLE-STRUCTURED-LOCATION;VALUE=URI;X-ADDRESS=1047 Amsterdam Ave.\, New Y
 ork\, New York\, 10019\, United States;X-APPLE-RADIUS=100;X-TITLE=St. John
  the Divine:geo:0,0
END:VEVENT
BEGIN:VTIMEZONE
TZID:America/New_York
X-LIC-LOCATION:America/New_York
BEGIN:STANDARD
DTSTART:20241103T010000
TZOFFSETFROM:-0400
TZOFFSETTO:-0500
TZNAME:EST
END:STANDARD
END:VTIMEZONE
END:VCALENDAR