BEGIN:VCALENDAR
VERSION:2.0
PRODID:-//wp-events-plugin.com//7.2.3.1//EN
TZID:America/New_York
X-WR-TIMEZONE:America/New_YorkBEGIN:VCALENDAR
VERSION:2.0
PRODID:-//wp-events-plugin.com//7.2.3.1//EN
TZID:America/New_York
X-WR-TIMEZONE:America/New_York
BEGIN:VEVENT
UID:135@earlymusicamerica.org
DTSTART;TZID=America/Los_Angeles:20250308T193000
DTEND;TZID=America/Los_Angeles:20250308T213000
DTSTAMP:20240930T193502Z
URL:https://www.earlymusicamerica.org/events/musica-angelica-presents-gard
 en-of-forking-paths/
SUMMARY:Musica Angelica Presents Garden of Forking Paths
DESCRIPTION:\nTaking inspiration from the 1941 story by Jorge Luis Borges s
 aid to foreshadow the quantum mechanics theory of a multiverse\, virtuosic
  instrumental compositions of Heinrich Ignaz Franz Biber\, Henry Purcell\,
  and Johann Heinrich Schmelzer form a labyrinth of musical routes where fi
 guration and linearity are manipulated into fresh sonic narratives. \nFol
 low Musica Angelica on Instagram to stay up-to-date with Southern Californ
 ia's premier baroque ensemble.\nhttps://instagram.com/musicaangelica\n
ATTACH;FMTTYPE=image/jpeg:https://www.earlymusicamerica.org/wp-content/upl
 oads/2024/09/musica-angelica-ensemble-2.jpg
CATEGORIES:Concerts
LOCATION:First Congregational Church of Long Beach\, 241 Cedar Ave.\, Long 
 Beach\, CA\, 90802\, United States
X-APPLE-STRUCTURED-LOCATION;VALUE=URI;X-ADDRESS=241 Cedar Ave.\, Long Beach
 \, CA\, 90802\, United States;X-APPLE-RADIUS=100;X-TITLE=First Congregatio
 nal Church of Long Beach:geo:0,0
END:VEVENT
BEGIN:VTIMEZONE
TZID:America/Los_Angeles
X-LIC-LOCATION:America/Los_Angeles
BEGIN:STANDARD
DTSTART:20241103T010000
TZOFFSETFROM:-0700
TZOFFSETTO:-0800
TZNAME:PST
END:STANDARD
END:VTIMEZONE
END:VCALENDAR