BEGIN:VCALENDAR
VERSION:2.0
PRODID:-//wp-events-plugin.com//7.2.3.1//EN
TZID:America/New_York
X-WR-TIMEZONE:America/New_YorkBEGIN:VCALENDAR
VERSION:2.0
PRODID:-//wp-events-plugin.com//7.2.3.1//EN
TZID:America/New_York
X-WR-TIMEZONE:America/New_York
BEGIN:VEVENT
UID:102@earlymusicamerica.org
DTSTART;TZID=America/New_York:20241026T160000
DTEND;TZID=America/New_York:20241026T173000
DTSTAMP:20240924T162555Z
URL:https://www.earlymusicamerica.org/events/musicians-of-the-old-post-roa
 d-presents-risky-business/
SUMMARY:Musicians of the Old Post Road Presents: Risky Business
DESCRIPTION:Featuring riveting Baroque works by German composers who pushed
  the envelope of their musical world. Works include virtuosic chamber musi
 c for flute\, strings\, and continuo by Buxtehude\, Walther\, Graupner\, K
 leinknecht\, Janitsch\, and Graun. 
ATTACH;FMTTYPE=image/jpeg:https://www.earlymusicamerica.org/wp-content/upl
 oads/2024/09/foursomemashupdraft-1.png
CATEGORIES:Concerts
LOCATION:First Parish Sudbury\, 327 Concord Road\, Sudbury\, MA\, 01776\, U
 nited States
X-APPLE-STRUCTURED-LOCATION;VALUE=URI;X-ADDRESS=327 Concord Road\, Sudbury\
 , MA\, 01776\, United States;X-APPLE-RADIUS=100;X-TITLE=First Parish Sudbu
 ry:geo:0,0
END:VEVENT
BEGIN:VTIMEZONE
TZID:America/New_York
X-LIC-LOCATION:America/New_York
BEGIN:DAYLIGHT
DTSTART:20240310T030000
TZOFFSETFROM:-0500
TZOFFSETTO:-0400
TZNAME:EDT
END:DAYLIGHT
END:VTIMEZONE
END:VCALENDAR