BEGIN:VCALENDAR
VERSION:2.0
PRODID:-//wp-events-plugin.com//7.2.3.1//EN
TZID:America/New_York
X-WR-TIMEZONE:America/New_YorkBEGIN:VCALENDAR
VERSION:2.0
PRODID:-//wp-events-plugin.com//7.2.3.1//EN
TZID:America/New_York
X-WR-TIMEZONE:America/New_York
BEGIN:VEVENT
UID:81@earlymusicamerica.org
DTSTART;TZID=America/New_York:20240927T193000
DTEND;TZID=America/New_York:20240927T210000
DTSTAMP:20240917T160309Z
URL:https://www.earlymusicamerica.org/events/nys-baroque-presents-the-secr
 et-music/
SUMMARY:NYS Baroque presents The Secret Music
DESCRIPTION:Imagine yourself in Ferrara\, Italy\, in 1580. The Duke's famed
  musica secreta is about to perform in the private chambers of the Duchess
 . These three professional women singers\, singing music composed especia
 lly for them\, are a sensation throughout Italy and beyond.  Join us as
  we explore this fascinating and virtuosic repertoire! Music by Luzzasch
 i\, Strozzi\, Francesca Caccini\, Monteverdi\, and more.Laura Heimes\, Cla
 ra Rottsolk\, Ashley Mulcahy\, singers\;Christa Patton\, harp\; David Morr
 is\, gamba and lirone\; Deborah Fox\, lutes\nPre-concert talk at 6:45pm
ATTACH;FMTTYPE=image/jpeg:https://www.earlymusicamerica.org/wp-content/upl
 oads/2024/09/Botticelli-ladies-detail-2.jpg
CATEGORIES:Concerts
LOCATION:Pebble Hill Presbyterian Church\, 5299 Jamesville Road\, Syracuse\
 , NY\, 13214\, United States
X-APPLE-STRUCTURED-LOCATION;VALUE=URI;X-ADDRESS=5299 Jamesville Road\, Syra
 cuse\, NY\, 13214\, United States;X-APPLE-RADIUS=100;X-TITLE=Pebble Hill P
 resbyterian Church:geo:0,0
END:VEVENT
BEGIN:VTIMEZONE
TZID:America/New_York
X-LIC-LOCATION:America/New_York
BEGIN:DAYLIGHT
DTSTART:20240310T030000
TZOFFSETFROM:-0500
TZOFFSETTO:-0400
TZNAME:EDT
END:DAYLIGHT
END:VTIMEZONE
END:VCALENDAR