BEGIN:VCALENDAR
VERSION:2.0
PRODID:-//wp-events-plugin.com//7.2.3.1//EN
TZID:America/New_York
X-WR-TIMEZONE:America/New_YorkBEGIN:VCALENDAR
VERSION:2.0
PRODID:-//wp-events-plugin.com//7.2.3.1//EN
TZID:America/New_York
X-WR-TIMEZONE:America/New_York
BEGIN:VEVENT
UID:237@earlymusicamerica.org
DTSTART;TZID=America/New_York:20241122T200000
DTEND;TZID=America/New_York:20241122T210000
DTSTAMP:20241110T001311Z
URL:https://www.earlymusicamerica.org/events/of-trolls-and-men-instrumenta
 l-music-from-18th-century-norway-2/
SUMMARY:Of Trolls and Men: Instrumental Music from 18th-century Norway
DESCRIPTION:On Friday\, November 22\, 2024\, Music for Viols and Friends re
 turns with a concert featuring instrumental music from 18th-century Norway
  performed by Duo Maresienne (Carol Lewis\, violas da gamba\; Olav Chris H
 enriksen\, Baroque guitar and cittern).  The duo will play folk songs\, f
 airytale tunes and dances from the mountains\, plus art music from the cit
 ies of Norway\, including sonatas and suites by Schenck\, Storm\, Winding 
 and others.  There is very special Baroque music to be found in Norway 
 – enough original Norwegian sources of secular music have survived that 
 we can begin to get a clear picture of what musical life must have been li
 ke\, both for private and festive occasions.  There are whole manuscripts
  of music for viola da gamba\, as well as for Baroque guitar and cittern\,
  and while the collections include sonatas by well-known foreign composers
  like Schenck\, and lyra-viol dances by Playford\, there are many other pi
 eces that give us a glimpse into the world of Nordic folk music\, complete
  with history\, legends and fairy tales.  Duo Maresienne will perform sel
 ections from the music and the tales\, from the cities through the forests
  and up into the mountains\, with plenty of stories told on dark Norwegian
  winter nights.
ATTACH;FMTTYPE=image/jpeg:https://www.earlymusicamerica.org/wp-content/upl
 oads/2024/11/Kittelsen-troll2-1.jpg
CATEGORIES:Concerts
LOCATION:Lindsay Chapel\, First Church in Cambridge Congregational\, 11 Gar
 den St. (entrance on Mason St.)\, Cambridge\, MA\, 02138\, United States
X-APPLE-STRUCTURED-LOCATION;VALUE=URI;X-ADDRESS=11 Garden St. (entrance on 
 Mason St.)\, Cambridge\, MA\, 02138\, United States;X-APPLE-RADIUS=100;X-T
 ITLE=Lindsay Chapel\, First Church in Cambridge Congregational:geo:0,0
END:VEVENT
BEGIN:VTIMEZONE
TZID:America/New_York
X-LIC-LOCATION:America/New_York
BEGIN:STANDARD
DTSTART:20241103T010000
TZOFFSETFROM:-0400
TZOFFSETTO:-0500
TZNAME:EST
END:STANDARD
END:VTIMEZONE
END:VCALENDAR