BEGIN:VCALENDAR
VERSION:2.0
PRODID:-//wp-events-plugin.com//7.2.3.1//EN
TZID:America/New_York
X-WR-TIMEZONE:America/New_YorkBEGIN:VCALENDAR
VERSION:2.0
PRODID:-//wp-events-plugin.com//7.2.3.1//EN
TZID:America/New_York
X-WR-TIMEZONE:America/New_York
BEGIN:VEVENT
UID:100@earlymusicamerica.org
DTSTART;TZID=America/New_York:20241107T200000
DTEND;TZID=America/New_York:20241107T213000
DTSTAMP:20240927T164520Z
URL:https://www.earlymusicamerica.org/events/pierre-hantai-plays-j-s-bachs
 -goldberg-variations/
SUMMARY:Pierre Hantaï plays J.S. Bach's Goldberg Variations
DESCRIPTION:Prepare for an evening of pure magic on Thursday\, Nov. 7!  Pi
 erre Hantaï\, one of today's most acclaimed harpsichordists\, performs J.
 S. Bach's iconic 'Goldberg Variations' in the beautiful\, atmospheric Chur
 ch of the Epiphany.\n\nThis is a 'Festival Capriccio 2024'\, a harpsichord
 -centric Festival presented by Capriccio Baroque.  The Festival presents 
 three of today's most acclaimed harpsichordists - Pierre Hantaï\, Justin 
 Taylor\, and Christophe Rousset - in four spectacular concerts.  Use this
  link for details on Festival Capriccio 2024.
ATTACH;FMTTYPE=image/jpeg:https://www.earlymusicamerica.org/wp-content/upl
 oads/2024/09/pierre-hantai-goldbergs.png
CATEGORIES:Concerts
LOCATION:The Church of the Epiphany\, 1317 G Street NW\, Washington\, DC\, 
 20005\, United States
X-APPLE-STRUCTURED-LOCATION;VALUE=URI;X-ADDRESS=1317 G Street NW\, Washingt
 on\, DC\, 20005\, United States;X-APPLE-RADIUS=100;X-TITLE=The Church of t
 he Epiphany:geo:0,0
END:VEVENT
BEGIN:VTIMEZONE
TZID:America/New_York
X-LIC-LOCATION:America/New_York
BEGIN:STANDARD
DTSTART:20241103T010000
TZOFFSETFROM:-0400
TZOFFSETTO:-0500
TZNAME:EST
END:STANDARD
END:VTIMEZONE
END:VCALENDAR